BEGIN:VCALENDAR
VERSION:2.0
PRODID:-//ChamberMaster//Event Calendar 2.0//EN
METHOD:PUBLISH
X-PUBLISHED-TTL:P3D
REFRESH-INTERVAL:P3D
CALSCALE:GREGORIAN
BEGIN:VEVENT
DTSTART:20110911T180000Z
DTEND:20110912T000000Z
X-MICROSOFT-CDO-ALLDAYEVENT:FALSE
SUMMARY:Palmer's SteakHouse Tent Event for Cystic Fibrosis
DESCRIPTION:PALMER'S TENT EVENT\n\n	To Benefit the Cystic Fibrosis Foundation\n\n	\n\n	When: Sunday September 11\, 2011\n\n	\n		Time: 1-7pm\n	\n		Music and Dancing 1-5pm\n	\n		Live Auction 5-7pm\n	\n		 \n	\n		The event will take place in the street outside of Palmer's on Sunday September 11th\, 2011. Tickets include all the food\, soda\, and beer you care to enjoy. Enjoy live music and dancing. There are also games for Children\, silent auctions\, and our spectacular live auction! Items in previous years have included sports memorabilia\, Packers\, Brewers\, Bucks\, and Wave Tickets\, Premium Wine\, Vacation Packages\, etc. \n	\n		\n			 \n		\n			 \n		\n			Tickets On Sale Now - $25 per person\n\n			includes all you can eat and drink beer and soda\n		\n			Stop into Palmer's To Get Your's Today!\n		\n			 \n		\n			 \n		\n			Last year we raised over $59\,000. \n		\n			Help us break that number this year!\n		\n			 \n		\n\n		If you would like to donate an item to our auction\, please e-mail us and let us know.Nothing is too big or too small!\n\n		\n\n		We also have sponsorship levels available for this year:\n\n		\n\n		1/4 Barrel of Beer Sponsor - $100 per barrel\n\n		Stage Sponsors - $500\n\n		Table and Chairs Sponsors - $1000\n\n		Band Sponsors - $1500\n\n		Tent Sponsors - $5000\n\n		Cure Sponsors- $10\,000\n\n		\n\n		\n\n		For inquires on sponsorship\, you can call Palmers at 262.369.3939 or email
X-ALT-DESC;FMTTYPE=text/html:<div class="description summary" style="text-align: center">\n	<span style="font-size: 14px"><span class="messageBody" data-ft="{"><span style="color: #800080"><strong>PALMER&#39\;S TENT EVENT</strong></span></span></span></div>\n<div class="description summary" style="text-align: center">\n	<span style="font-size: 14px"><span class="messageBody" data-ft="{"><span style="color: #800080"><strong>To Benefit the Cystic Fibrosis Foundation</strong></span></span><br />\n	<br />\n	<strong><span style="color: #800080"><span class="messageBody" data-ft="{">When: Sunday September 11\, 2011</span></span></strong></span></div>\n<div class="description summary">\n	<div style="text-align: center\; font-style: normal\; color: #000000\; font-weight: normal\; text-decoration: none" width="100%">\n		<strong><span style="color: #800080"><span style="font-size: 14px"><span class="messageBody" data-ft="{">Time: 1-7pm</span></span></span></strong></div>\n	<div style="text-align: center\; font-style: normal\; color: #000000\; font-weight: normal\; text-decoration: none" width="100%">\n		<strong><span style="color: #800080"><span style="font-size: 14px"><span class="messageBody" data-ft="{">Music and Dancing 1-5pm</span></span></span></strong></div>\n	<div style="text-align: center\; font-style: normal\; color: #000000\; font-weight: normal\; text-decoration: none" width="100%">\n		<strong><span style="color: #800080"><span style="font-size: 14px"><span class="messageBody" data-ft="{">Live Auction 5-7pm</span></span></span></strong></div>\n	<div style="text-align: center\; font-style: normal\; color: #000000\; font-weight: normal\; text-decoration: none" width="100%">\n		<span class="messageBody" data-ft="{">&nbsp\;</span></div>\n	<div style="font-style: normal\; display: inline !important\; color: #000000\; font-size: 9pt\; font-weight: normal" width="100%">\n		<span class="messageBody" data-ft="{"><span style="font-size: 14px"><span style="font-family: arial"><span>The event will take place in the street outside of Palmer&#39\;s on Sunday September 11th\, 2011. Tickets include all the food\, soda\, and beer you care to enjoy. Enjoy live music and dancing. There are also games for Children\, silent auctions\, and our spectacular live auction! Items in previous years have included sports memorabilia\, Packers\, Brewers\, Bucks\, and Wave Tickets\, Premium Wine\, Vacation Packages\, etc. </span></span></span></span></div>\n	<div style="font-style: normal\; text-decoration: none" width="100%">\n		<div style="font-style: normal\; color: #000000\; font-weight: normal\; text-decoration: none" width="100%">\n			<span class="messageBody" data-ft="{"><span style="font-size: 14px">&nbsp\;</span></span></div>\n		<div style="font-style: normal\; font-family: arial\; color: #000000\; font-size: 9pt\; font-weight: normal\; text-decoration: none" width="100%">\n			<span class="messageBody" data-ft="{"><span style="font-size: 14px">&nbsp\;</span></span></div>\n		<div style="text-align: center\; font-style: normal\; font-family: times new roman\; font-size: 9pt\; text-decoration: none" width="100%">\n			<span class="messageBody" data-ft="{"><span style="font-size: 14px"><span><span style="font-family: arial"><span>Tickets On Sale Now - $25 per person<br />\n			includes all you can eat and drink beer and soda</span></span></span></span></span></div>\n		<div style="text-align: center\; font-style: normal\; font-family: times new roman\; font-size: 9pt\; text-decoration: none" width="100%">\n			<span class="messageBody" data-ft="{"><span style="font-size: 14px"><span style="font-family: times new roman"><span>Stop into Palmer&#39\;s To Get Your&#39\;s Today!</span></span></span></span></div>\n		<div style="text-align: center\; font-style: normal\; font-family: times new roman\; font-size: 9pt\; text-decoration: none" width="100%">\n			<span class="messageBody" data-ft="{">&nbsp\;</span></div>\n		<div style="font-style: normal\; font-family: arial\; color: #000000\; font-size: 9pt\; font-weight: normal\; text-decoration: none" width="100%">\n			<span class="messageBody" data-ft="{">&nbsp\;</span></div>\n		<div style="text-align: center\; font-family: verdana\; font-size: medium\; font-weight: normal">\n			<span style="font-size: 12px"><span class="messageBody" data-ft="{"><span style="font-family: times new roman"><strong><strong><span style="font-family: arial"><span style="color: #ff0000">Last year we raised over $59\,000. </span></span></strong></strong></span></span></span></div>\n		<div style="text-align: center\; font-family: verdana\; font-size: medium\; font-weight: normal">\n			<span style="font-size: 12px"><span class="messageBody" data-ft="{"><span style="font-family: times new roman"><strong><strong><span style="font-family: arial"><span style="color: #ff0000">Help us break that number this year!</span></span></strong></strong></span></span></span></div>\n		<div style="text-align: center\; font-family: verdana\; color: #000000\; font-size: medium\; font-weight: normal">\n			<span class="messageBody" data-ft="{">&nbsp\;</span></div>\n		<br />\n		<span class="messageBody" data-ft="{"><span style="font-family: arial"><span style="font-size: 14px"><span><span style="color: #000000"><span style="color: #000000">If you would like to donate an item to our auction\, please e-mail us and let us know.Nothing is too big or too small!</span></span></span></span></span><br />\n		<br />\n		<span style="font-family: times new roman"><strong><span><span style="font-size: 13px"><span style="color: #000000"><span style="font-family: arial"><span style="font-size: 13px"><span style="color: #000000"><span style="font-family: arial"><strong><u>We also have sponsorship levels available for this year:</u></strong></span></span></span></span></span></span></span></strong></span><br />\n		<br />\n		<span style="font-family: times new roman"><strong><span>1/4 Barrel of Beer Sponsor - $100 per barrel</span></strong></span><br />\n		<span style="font-family: times new roman"><strong><span>Stage Sponsors - $500</span></strong></span><br />\n		<span style="font-family: times new roman"><strong><span>Table and Chairs Sponsors - $1000</span></strong></span><br />\n		<span style="font-family: times new roman"><strong><span>Band Sponsors - $1500</span></strong></span><br />\n		<span style="font-family: times new roman"><strong><span>Tent Sponsors - $5000</span></strong></span><br />\n		<span style="font-family: times new roman"><strong><span>Cure Sponsors- $10\,000</span></strong></span><br />\n		<br />\n		<br />\n		<span style="font-family: times new roman"><strong><span><span style="font-size: 13px"><span style="color: #000000"><span style="font-family: arial"><span style="font-size: 13px"><span style="color: #000000"><span style="font-family: arial">For inquires on sponsorship\, you can call Palmers at 262.369.3939 or email</span></span></span></span></span></span></span></strong></span><span _fck_bookmark="1" style="display: none">&nbsp\;</span></span></div>\n</div>\n
LOCATION:Outside Palmer's Steakhouse 122 E. Capitol Drive Hartland\, WI
UID:e.522.131761
SEQUENCE:3
DTSTAMP:20260422T094401Z
URL:https://business.hartland-wi.org/events/details/palmer-s-steakhouse-tent-event-for-cystic-fibrosis-09-11-2011-131761
END:VEVENT

END:VCALENDAR
