BEGIN:VCALENDAR
VERSION:2.0
PRODID:-//ChamberMaster//Event Calendar 2.0//EN
METHOD:PUBLISH
X-PUBLISHED-TTL:P3D
REFRESH-INTERVAL:P3D
CALSCALE:GREGORIAN
BEGIN:VEVENT
DTSTART:20120911T213000Z
DTEND:20121023T230000Z
X-MICROSOFT-CDO-ALLDAYEVENT:FALSE
SUMMARY:Painting Classes
DESCRIPTION:Explore the basics of watercolor\, acrylic or oil techniques.  Ages 11 and up.
X-ALT-DESC;FMTTYPE=text/html:Explore the basics of watercolor\, acrylic or oil techniques.&nbsp\; Ages 11 and up.
LOCATION:Lake Country Fine Arts School and Gallery 112 W. Capitol Dr. Hartland\, WI 53029
UID:e.522.132018
SEQUENCE:3
DTSTAMP:20260421T074945Z
URL:https://business.hartland-wi.org/events/details/painting-classes-09-11-2012-132018
END:VEVENT

END:VCALENDAR
