BEGIN:VCALENDAR
VERSION:2.0
PRODID:-//ChamberMaster//Event Calendar 2.0//EN
METHOD:PUBLISH
X-PUBLISHED-TTL:P3D
REFRESH-INTERVAL:P3D
CALSCALE:GREGORIAN
BEGIN:VEVENT
DTSTART:20110513T220000Z
DTEND:20110514T020000Z
X-MICROSOFT-CDO-ALLDAYEVENT:FALSE
SUMMARY:Out-n-About in Hartland 2011
DESCRIPTION:Fifth Annual\n\n	 Out-N-About\n\n	 In Hartland for Gallery Night 2011\n\n	\n\n	 \n\n	http://www.facebook.com/home.php#!/pages/Out-N-About-in-Hartland-for-Gallery-Night/100199420066382?sk=wall\n\n	\n\n	\n\n	Friday\, May 13\, 2011\, from 5p.m.   9p.m.\n\n	Celebrate the arrival of Spring\n\n	 Local Artists   Live Music   Pottery   Paintings   Furniture   Apparel  Jewelry   Glass   Refreshments   Prizes   Activities\n\n	 \n\n	Please\, bring a nonperishable food item to be donated to the Hartland Food Pantry.\n\n	Sponsored in part by the Hartland B.I.D.
X-ALT-DESC;FMTTYPE=text/html:<p style="text-align: center">\n	&nbsp\;<span style="font-size: 22pt"><span style="font-family: lucida calligraphy">Fifth Annual<br />\n	<span style="font-size: 20pt"><span style="font-family: times new roman\,serif">&nbsp\;<strong><span style="font-size: 36px">Out-N-About</span></strong></span></span></span></span></p>\n<p style="text-align: center">\n	&nbsp\;<span style="font-size: 20pt"><span style="font-family: lucida calligraphy">In Hartland for Gallery Night 2011</span></span><br />\n	<br />\n	&nbsp\;<br />\n	<span style="font-size: 12pt"><span style="font-family: times new roman\,serif"><a href="http://www.facebook.com/home.php#%21/pages/Out-N-About-in-Hartland-for-Gallery-Night/100199420066382?sk=wall">http://www.facebook.com/home.php#!/pages/Out-N-About-in-Hartland-for-Gallery-Night/100199420066382?sk=wall</a></span></span><br />\n	<br />\n	<br />\n	<span style="font-size: 18pt">Friday\, May 13\, 2011\, from 5p.m. &ndash\; 9p.m.</span><br />\n	<span style="font-size: 18pt">Celebrate the arrival of Spring</span><br />\n	<span style="font-size: 18pt"><span style="font-family: wingdings">&Yuml\;</span></span><span style="font-size: 18pt">Local Artists&nbsp\; </span><span style="font-size: 18pt"><span style="font-family: wingdings">&Yuml\;</span></span><span style="font-size: 18pt">Live Music&nbsp\; </span><span style="font-size: 18pt"><span style="font-family: wingdings">&Yuml\;</span></span><span style="font-size: 18pt">Pottery&nbsp\; </span><span style="font-size: 18pt"><span style="font-family: wingdings">&Yuml\;</span></span><span style="font-size: 18pt">Paintings&nbsp\; </span><span style="font-size: 18pt"><span style="font-family: wingdings">&Yuml\;</span></span><span style="font-size: 18pt">Furniture&nbsp\; </span><span style="font-size: 18pt"><span style="font-family: wingdings">&Yuml\;</span></span><span style="font-size: 18pt">Apparel </span><span style="font-size: 18pt"><span style="font-family: wingdings">&Yuml\;</span></span><span style="font-size: 18pt">Jewelry&nbsp\; </span><span style="font-size: 18pt"><span style="font-family: wingdings">&Yuml\;</span></span><span style="font-size: 18pt">Glass&nbsp\; </span><span style="font-size: 18pt"><span style="font-family: wingdings">&Yuml\;</span></span><span style="font-size: 18pt">Refreshments&nbsp\; </span><span style="font-size: 18pt"><span style="font-family: wingdings">&Yuml\;</span></span><span style="font-size: 18pt">Prizes&nbsp\; </span><span style="font-size: 18pt"><span style="font-family: wingdings">&Yuml\;</span></span><span style="font-size: 18pt">Activities</span><br />\n	&nbsp\;<br />\n	Please\, bring a nonperishable food item to be donated to the Hartland Food Pantry<span style="font-size: 14pt">.</span><br />\n	<span style="font-size: 10pt"><span style="font-family: lucida calligraphy">Sponsored in part by the Hartland B.I.D.</span></span></p>\n
LOCATION:Downtown Hartland\, WI
UID:e.522.131556
SEQUENCE:3
DTSTAMP:20260422T165238Z
URL:https://business.hartland-wi.org/events/details/out-n-about-in-hartland-2011-05-13-2011-131556
END:VEVENT

END:VCALENDAR
