BEGIN:VCALENDAR
VERSION:2.0
PRODID:-//ChamberMaster//Event Calendar 2.0//EN
METHOD:PUBLISH
X-PUBLISHED-TTL:P3D
REFRESH-INTERVAL:P3D
CALSCALE:GREGORIAN
BEGIN:VEVENT
DTSTART:20130314T230000Z
DTEND:20130315T020000Z
X-MICROSOFT-CDO-ALLDAYEVENT:FALSE
SUMMARY:OPEN STAGE
DESCRIPTION:Community Open Stage!\n\n	second Thursday every month  \n\n	free event\n\n	\n\n	 6-7pm young students\n\n	6:30 sign-in\n\n	 7-9pm OPEN STAGE
X-ALT-DESC;FMTTYPE=text/html:<h5>\n	<span style="font-family: tahoma\;"><span style="font-size: 16px\;"><strong><span style="color: rgb(128\, 0\, 0)\;">Community Open Stage!<br />\n	second Thursday every month&nbsp\;</span> </strong><br />\n	free event</span></span><br />\n	<br />\n	&nbsp\;<span style="font-family: tahoma\;">6-7pm young students</span><br />\n	<span style="font-family: tahoma\;">6:30 sign-in<br />\n	&nbsp\;7-9pm OPEN STAGE</span></h5>
LOCATION:
UID:e.522.132353
SEQUENCE:3
DTSTAMP:20260421T004023Z
URL:https://business.hartland-wi.org/events/details/open-stage-03-14-2013-132353
END:VEVENT

END:VCALENDAR
