BEGIN:VCALENDAR
VERSION:2.0
PRODID:-//ChamberMaster//Event Calendar 2.0//EN
METHOD:PUBLISH
X-PUBLISHED-TTL:P3D
REFRESH-INTERVAL:P3D
CALSCALE:GREGORIAN
BEGIN:VEVENT
DTSTART:20130209T000000Z
DTEND:20130209T030000Z
X-MICROSOFT-CDO-ALLDAYEVENT:FALSE
SUMMARY:OPEN STAGE!
DESCRIPTION:OPEN STAGE! \n\n6-7pm for STUDENTS. sign in 5:30\n\n 7-9pm ADULTS (Starting at Highschool) sign in 6:30\n\ncome to participate or enjoy. \n\nRefreshments available from Backstage Coffee - serving up a variety of Alterra coffees and bakery!
X-ALT-DESC;FMTTYPE=text/html:<span style="color: rgb(128\, 0\, 0)\;">OPEN STAGE!&nbsp\;<br />\n6-7pm for STUDENTS. sign in 5:30<br />\n&nbsp\;7-9pm&nbsp\;ADULTS (Starting at Highschool) sign in 6:30<br />\ncome to participate or enjoy.&nbsp\;<br />\nRefreshments available from Backstage Coffee - serving up a variety of Alterra coffees and bakery!</span>
LOCATION:Hartland Music Center
UID:e.522.132352
SEQUENCE:3
DTSTAMP:20260421T003945Z
URL:https://business.hartland-wi.org/events/details/open-stage-02-08-2013-132352
END:VEVENT

END:VCALENDAR
