BEGIN:VCALENDAR
VERSION:2.0
PRODID:-//ChamberMaster//Event Calendar 2.0//EN
METHOD:PUBLISH
X-PUBLISHED-TTL:P3D
REFRESH-INTERVAL:P3D
CALSCALE:GREGORIAN
BEGIN:VEVENT
DTSTART:20120815T210000Z
DTEND:20120815T230000Z
X-MICROSOFT-CDO-ALLDAYEVENT:FALSE
SUMMARY:Open House - Payroll Data
DESCRIPTION:OPEN HOUSE\n\n	\n\n	PAYROLL DATA\n\n	1020 James Dr.\n\n	Hartland\, WI 53029\n\n	\n\n	Wednesday\, August 15\, 2012\n\n	4:00 - 6:00 PM\n\n	\n\n	Click here for details
X-ALT-DESC;FMTTYPE=text/html:<p style="text-align: center">\n	<span style="font-size: 14px"><span style="font-family: tahoma"><strong>OPEN HOUSE</strong></span></span><br />\n	<br />\n	<strong><span style="font-family: verdana">PAYROLL DATA<br />\n	1020 James Dr.<br />\n	Hartland\, WI 53029</span><br />\n	<br />\n	Wednesday\, August 15\, 2012<br />\n	4:00 - 6:00 PM</strong><br />\n	<br />\n	<a href="http://cloud.chambermaster.com/userfiles/UserFiles/chambers/522/File/PDSOpenHouseInvite.JPG">Click here for details</a></p>\n
LOCATION:1020 James Dr. Hartland\, WI
UID:e.522.132008
SEQUENCE:3
DTSTAMP:20260421T111438Z
URL:https://business.hartland-wi.org/events/details/open-house-payroll-data-08-15-2012-132008
END:VEVENT

END:VCALENDAR
