BEGIN:VCALENDAR
VERSION:2.0
PRODID:-//ChamberMaster//Event Calendar 2.0//EN
METHOD:PUBLISH
X-PUBLISHED-TTL:P3D
REFRESH-INTERVAL:P3D
CALSCALE:GREGORIAN
BEGIN:VEVENT
DTSTART:20180121T190000Z
DTEND:20180121T220000Z
X-MICROSOFT-CDO-ALLDAYEVENT:FALSE
SUMMARY:Open House for Zion Lutheran School
DESCRIPTION:Zion Lutheran School invites families to come to our open house to see the school and meet the faculty and parents of current Zion students.  We are currently enrolling 3K-8th grade students including those eligible for the Wisconsin Parental Choice Program.  Information on the Choice Program will be available during our open house.  Please join us to see what Zion has to offer your family!
X-ALT-DESC;FMTTYPE=text/html:Zion Lutheran School invites families to come to our open house to see the school and meet the faculty and parents of current Zion students.&nbsp\; We are currently enrolling 3K-8th grade students including those eligible for the Wisconsin Parental Choice Program.&nbsp\; Information on the Choice Program will be available during our open house.&nbsp\; Please join us to see what Zion has to offer your family!
LOCATION:1023 E. Capitol Drive\, Hartland\, WI
UID:e.522.137189
SEQUENCE:3
DTSTAMP:20260423T182255Z
URL:https://business.hartland-wi.org/events/details/open-house-for-zion-lutheran-school-137189
END:VEVENT

END:VCALENDAR
