BEGIN:VCALENDAR
VERSION:2.0
PRODID:-//ChamberMaster//Event Calendar 2.0//EN
METHOD:PUBLISH
X-PUBLISHED-TTL:P3D
REFRESH-INTERVAL:P3D
CALSCALE:GREGORIAN
BEGIN:VEVENT
DTSTART:20190428T170000Z
DTEND:20190428T200000Z
X-MICROSOFT-CDO-ALLDAYEVENT:FALSE
SUMMARY:Open House - Benchmark Secured Storage of Hartland
DESCRIPTION:Open House on April 28\, 2019 from 12pm to 3pm at Benchmark Secured Storage located at 840 Rose Drive\, Hartland.  Join us for self-guided and guided tours\, appetizers\, and refreshments.  Please part on Rose Drive.
X-ALT-DESC;FMTTYPE=text/html:Open House on April 28\, 2019 from 12pm to 3pm at Benchmark Secured Storage located at 840 Rose Drive\, Hartland.&nbsp\; Join us for self-guided and guided tours\, appetizers\, and refreshments.&nbsp\; Please part on Rose Drive.
LOCATION:Benchmark Secured Storage 840 Rose Drive\, Hartland WI 53029
UID:e.522.137769
SEQUENCE:3
DTSTAMP:20260424T193214Z
URL:https://business.hartland-wi.org/events/details/open-house-benchmark-secured-storage-of-hartland-137769
END:VEVENT

END:VCALENDAR
