BEGIN:VCALENDAR
VERSION:2.0
PRODID:-//ChamberMaster//Event Calendar 2.0//EN
METHOD:PUBLISH
X-PUBLISHED-TTL:P3D
REFRESH-INTERVAL:P3D
CALSCALE:GREGORIAN
BEGIN:VEVENT
DTSTART:20190127T190000Z
DTEND:20190127T210000Z
X-MICROSOFT-CDO-ALLDAYEVENT:FALSE
SUMMARY:Open House
DESCRIPTION:Zion Lutheran School invites families to come to our open house to see the school and meet the faculty and parents of current Zion sturdents.  We are currently enrolling 3K-8th grade students including those eligaible for the Wisconsin Parental Choice Program.  Information on the Choice Program will be available during our open house.  Please join us to see what Zion has to offer you fmaily!
X-ALT-DESC;FMTTYPE=text/html:Zion Lutheran School invites families to come to our open house to see the school and meet the faculty and parents of current Zion sturdents.&nbsp\; We are currently enrolling 3K-8th grade students including those eligaible for the Wisconsin Parental Choice Program.&nbsp\; Information on the Choice Program will be available during our open house.&nbsp\; Please join us to see what Zion has to offer you fmaily!
LOCATION:Zion Lutheran School 1023 East Capitol Drive Hartland\, WI. 53029
UID:e.522.137620
SEQUENCE:3
DTSTAMP:20260424T135022Z
URL:https://business.hartland-wi.org/events/details/open-house-137620
END:VEVENT

END:VCALENDAR
