BEGIN:VCALENDAR
VERSION:2.0
PRODID:-//ChamberMaster//Event Calendar 2.0//EN
METHOD:PUBLISH
X-PUBLISHED-TTL:P3D
REFRESH-INTERVAL:P3D
CALSCALE:GREGORIAN
BEGIN:VEVENT
DTSTART:20120728T003000Z
DTEND:20120730T023000Z
X-MICROSOFT-CDO-ALLDAYEVENT:FALSE
SUMMARY:?Once on this Island? Musical at SummerStage of Delafield
DESCRIPTION:This highly original and theatrical musical Caribbean adaptation of the popular fairy tale The Little Mermaid garnered eight Tony nominations for its Broadway run\, including Best Musical\, Book and Score.  Please join us for our first musical at SummerStage. (Produced in partnership with Waukesha Civic Theatre)
X-ALT-DESC;FMTTYPE=text/html:This highly original and theatrical musical Caribbean adaptation of the popular fairy tale The Little Mermaid garnered eight Tony nominations for its Broadway run\, including Best Musical\, Book and Score.&nbsp\; Please join us for our first musical at SummerStage. (Produced in partnership with Waukesha Civic Theatre)
LOCATION:SummerStage at Lapham Peak State Park
UID:e.522.131951
SEQUENCE:3
DTSTAMP:20260421T131123Z
URL:https://business.hartland-wi.org/events/details/once-on-this-island-musical-at-summerstage-of-delafield-07-27-2012-131951
END:VEVENT

END:VCALENDAR
