BEGIN:VCALENDAR
VERSION:2.0
PRODID:-//ChamberMaster//Event Calendar 2.0//EN
METHOD:PUBLISH
X-PUBLISHED-TTL:P3D
REFRESH-INTERVAL:P3D
CALSCALE:GREGORIAN
BEGIN:VEVENT
DTSTART:20141023T230000Z
DTEND:20141024T023000Z
X-MICROSOFT-CDO-ALLDAYEVENT:FALSE
SUMMARY:Oktoberfest Beer Dinner
DESCRIPTION:Oktoberfest Beer Dinner\n\n\n\n6:00 Cocktails\, 6:30 Dinner\n\n$65.00 per person\n\n\n\nSix Course Gourmet Dinner with Featured Special Beers\n\n \n\nThis is our fiest event in this season's Dine with Beer & Wine series.\n\nOur next event is Thursday\, December 11th "Holiday Glow Wine Dinner"\n\n\n\nCall 262-367-3903 to make your reservation!
X-ALT-DESC;FMTTYPE=text/html:<div style="text-align: center\;"><span style="font-size: 16px\;"><strong><u><span style="color: rgb(165\, 42\, 42)\;">Oktoberfest Beer Dinner</span></u></strong><br />\n<br />\n<span style="color: rgb(165\, 42\, 42)\;"><em>6:00 Cocktails\, 6:30 Dinner<br />\n$65.00 per person</em></span><br />\n<br />\n<strong><span style="color: rgb(0\, 100\, 0)\;">Six Course Gourmet Dinner with Featured Special&nbsp\;Beers</span></strong></span><br />\n&nbsp\;</div>\n\n<div style="text-align: center\;"><span style="font-size: 16px\;"><em>This is our fiest event in this season&#39\;s Dine with Beer &amp\; Wine series.<br />\nOur next event is Thursday\, December 11th &quot\;Holiday Glow Wine Dinner&quot\;</em><br />\n<br />\n<strong><span style="color: rgb(128\, 0\, 0)\;"><u>Call 262-367-3903 to make your reservation!</u></span></strong></span></div>\n
LOCATION:Weissgerber's Seven Seas
UID:e.522.133073
SEQUENCE:3
DTSTAMP:20260420T231447Z
URL:https://business.hartland-wi.org/events/details/oktoberfest-beer-dinner-10-23-2014-133073
END:VEVENT

END:VCALENDAR
