BEGIN:VCALENDAR
VERSION:2.0
PRODID:-//ChamberMaster//Event Calendar 2.0//EN
METHOD:PUBLISH
X-PUBLISHED-TTL:P3D
REFRESH-INTERVAL:P3D
CALSCALE:GREGORIAN
BEGIN:VEVENT
DTSTART:20161001T210000Z
DTEND:20161002T045500Z
X-MICROSOFT-CDO-ALLDAYEVENT:FALSE
SUMMARY:Oktoberfest
DESCRIPTION:Over 30 tap beers\n\n\n\ntwo bands\n\n\n\ngreat food\n\n\n\nfund raiser for Children's Hospital in memory of Krystina Finn
X-ALT-DESC;FMTTYPE=text/html:Over 30 tap beers<br />\n<br />\ntwo bands<br />\n<br />\ngreat food<br />\n<br />\nfund raiser for Children&#39\;s Hospital in memory of Krystina Finn
LOCATION:We are closing Haight Street just north of Beer Snobs' patio
UID:e.522.133834
SEQUENCE:3
DTSTAMP:20260422T164942Z
URL:https://business.hartland-wi.org/events/details/oktoberfest-133834
END:VEVENT

END:VCALENDAR
