BEGIN:VCALENDAR
VERSION:2.0
PRODID:-//ChamberMaster//Event Calendar 2.0//EN
METHOD:PUBLISH
X-PUBLISHED-TTL:P3D
REFRESH-INTERVAL:P3D
CALSCALE:GREGORIAN
BEGIN:VEVENT
DTSTART:20180811T210000Z
DTEND:20180812T040000Z
X-MICROSOFT-CDO-ALLDAYEVENT:FALSE
SUMMARY:North Lake Veterinary Clinic's 30th Anniversary Celebration
DESCRIPTION:Everyone is invited to our 30th Anniversary Celebration (and 6th Annual Community Appreciation Party) on Saturday August 19! We will have our clinic open for tours from 4pm-6pm. Vendors from local businesses will be set up from 4pm-7:30pm. The band Bella Cain will be performing from 7:30pm-10pm\, with a live auction during their break (All money raised will go to WI Vest-A-Dog and the Lion's Club). Lots of fun for the whole family including bouncy houses\, face painting\, free raffle\, and food and beverages available for purchase from the Lion's Club. Please visit our Facebook page for more info. Hope to see you there!
X-ALT-DESC;FMTTYPE=text/html:<p><span style="color:black\; font-family:arial\,sans-serif\; font-size:10.5pt">Everyone is invited to our 30th Anniversary Celebration (and 6th Annual&nbsp\;Community Appreciation Party) on Saturday August 19! We will have our clinic open for tours from 4pm-6pm. Vendors from local businesses will be set up from 4pm-7:30pm. The band Bella Cain will be performing from 7:30pm-10pm\, with a live auction during their break (All money raised will go to WI Vest-A-Dog and the Lion&#39\;s Club). Lots of fun for the whole family including bouncy houses\, face painting\, free raffle\, and food and beverages available for purchase from the Lion&#39\;s Club. Please visit our Facebook page for more info. Hope to see you there!</span></p>\n
LOCATION:W300 N7638 Christine Lane\, Hartland WI 53029 (Corner of HWY VV and Christine Lane\, across the street from the Polo fields)
UID:e.522.137238
SEQUENCE:3
DTSTAMP:20260424T055344Z
URL:https://business.hartland-wi.org/events/details/north-lake-veterinary-clinic-s-30th-anniversary-celebration-137238
END:VEVENT

END:VCALENDAR
