BEGIN:VCALENDAR
VERSION:2.0
PRODID:-//ChamberMaster//Event Calendar 2.0//EN
METHOD:PUBLISH
X-PUBLISHED-TTL:P3D
REFRESH-INTERVAL:P3D
CALSCALE:GREGORIAN
BEGIN:VEVENT
DTSTART:20150815T210000Z
DTEND:20150816T040000Z
X-MICROSOFT-CDO-ALLDAYEVENT:FALSE
SUMMARY:North Lake Veterinary Clinic Annual Summer Party
DESCRIPTION:Please join us for our 3rd annual Summer Party and Open House!\n\n\n\n4:00pm- 6:30pm: Clinic tours\, kids activities (including bouncy houses\, petting zoo\, and much more!)\, local businesses/ organizations will be present.   \n\n\n\n6:30pm- 7:30pm: Demonstrations by various K-9 units\, and training facilities.\n\n\n\n7:30pm- 11:00pm: Live music from the band Cherry Pie\n\nFood and beverages are available to purchase all evening.
X-ALT-DESC;FMTTYPE=text/html:Please join us for our 3rd annual Summer Party and Open House!<br />\n<br />\n4:00pm- 6:30pm: Clinic tours\,&nbsp\;kids activities (including&nbsp\;bouncy houses\, petting zoo\, and much more!)\, local businesses/ organizations will be present. &nbsp\;&nbsp\;<br />\n<br />\n6:30pm- 7:30pm: Demonstrations by various K-9 units\, and training facilities.<br />\n<br />\n7:30pm- 11:00pm: Live music from the band Cherry Pie<br />\nFood and beverages are available to purchase all evening.&nbsp\;
LOCATION:W300 N7638 Christine Lane Hartland WI 53029
UID:e.522.133283
SEQUENCE:3
DTSTAMP:20260421T162222Z
URL:https://business.hartland-wi.org/events/details/north-lake-veterinary-clinic-annual-summer-party-08-15-2015-133283
END:VEVENT

END:VCALENDAR
