BEGIN:VCALENDAR
VERSION:2.0
PRODID:-//ChamberMaster//Event Calendar 2.0//EN
METHOD:PUBLISH
X-PUBLISHED-TTL:P3D
REFRESH-INTERVAL:P3D
CALSCALE:GREGORIAN
BEGIN:VEVENT
DTSTART:20170819T210000Z
DTEND:20170820T043000Z
X-MICROSOFT-CDO-ALLDAYEVENT:FALSE
SUMMARY:NLVC 5th Annual Community Appreciation Party
DESCRIPTION:Everyone is invited to our 5th Annual Community Appreciation Party on Saturday August 19! We will have our clinic open for tours from 4pm-6pm. Vendors from local businesses will be set up from 4pm-7:30pm. The band Cherry Pie will be performing from 7:30pm-10pm\, with a live auction during their break (All money raised will go to WI Vest-A-Dog and the Lion's Club). Lots of fun for the whole family incuding bouncy houses\, face painting\, free raffle\, and food and bevereages available for purchase from the Lion's Club. Please visit our facebook page for more info. Hope to see you there!
X-ALT-DESC;FMTTYPE=text/html:Everyone is invited to our 5th Annual Community Appreciation Party on Saturday August 19! We will have our clinic open for tours from 4pm-6pm. Vendors from local businesses will be set up from 4pm-7:30pm. The band Cherry Pie will be performing from 7:30pm-10pm\, with a live auction during their break (All money raised will go to WI Vest-A-Dog and the Lion&#39\;s Club). Lots of fun for the whole family incuding bouncy houses\, face painting\, free raffle\, and food and bevereages available for purchase from the Lion&#39\;s Club. Please visit our facebook page for more info. Hope to see you there!
LOCATION:W300 N7638 Christine Lane\, Hartland WI 53029 (Corner of HWY VV and Christine Lane\, across the street from the Polo fields)
UID:e.522.134759
SEQUENCE:3
DTSTAMP:20260423T100546Z
URL:https://business.hartland-wi.org/events/details/nlvc-5th-annual-community-appreciation-party-134759
END:VEVENT

END:VCALENDAR
