BEGIN:VCALENDAR
VERSION:2.0
PRODID:-//ChamberMaster//Event Calendar 2.0//EN
METHOD:PUBLISH
X-PUBLISHED-TTL:P3D
REFRESH-INTERVAL:P3D
CALSCALE:GREGORIAN
BEGIN:VEVENT
DTSTART:20180918T223000Z
DTEND:20180918T233000Z
X-MICROSOFT-CDO-ALLDAYEVENT:FALSE
SUMMARY:'nalytix Onboarding Sessions
DESCRIPTION:Hartland is pleased to announce our new venture with 'nalytix.\n\n \n\n'nalytix  is a mobile and web platform that provides a real-time connection between consumers and local businesses to drive increased engagement in the community. As a flagship community\, our members will have unlimited and free access to:\n\n	Business Connect\, the web application to create\, customize and visualize your promotions and engage with your community. With business connect it is easy to create your own algorithm to connect your business with the right customer at the right time by leveraging the power of data and analytics in real time. \n\n\n\n	'nroote\, the mobile app that builds community by connecting consumers with local businesses and each other. With 'nroote it is easy to connect the right promotions and events with the right customers at the right time. \n\n \n\nThis year\, Governor Walker has declared September\, Chamber of Commerce Month.  Hartland will be recognizing that proclamation by hosting several small events and offering special promotions   unlimited and free access to Business Connect and 'nroote is part of that. With several workshops planned to explain the product\, now is a great opportunity for any business to attract new customers\, increase brand awareness and learn about 'nalytix capabilities. All promotions will be available to consumers through 'nroote and deployed through business connect. \n\n \n\nHartland Chamber members are invited to sign up with 'nalytix  in order to take advantage of this new benefit.\n\n \n\nSign up instructions:\n\n\n	Register with 'nalytix Business Connect by clicking here and following the steps to sign up. This should take less than 1 minute. \n	Sign up and attend one of the Onboarding sessions hosted by 'nalytix (see below). During these sessions\, 'nalytix will help set up your business\, work with each business to create a few promotions and discuss any questions regarding the platform. \n	\n		To sign up for an onboarding click here and sign up at least 24 hours before the session.\n		If you are unable to make any of these events you can contact Rafael Santana at rafael.santana@nalytix.com to schedule an onboarding session. Activate your promotions when ready.\n	\n	\n\n \n\nOnboarding Sessions:\n\nWhen:\n\nWednesdays (7:30am to 8:30am)  September 5\, September 19\n\nWednesdays (11:30am to 12:30pm) September 12\, September 26\n\nTuesdays (5:30pm to 6:30pm) August 28\, September 4\, September 18\n\nWhere:\n\nVillage of Hartland Fire Department (150 Lawn Street\, Hartland\, WI 53029)\n\n \n\nThe Hartland Chamber of Commerce is pleased to offer this new benefit to our members in what we hope will be an exciting and productive opportunity for your business and our community.
X-ALT-DESC;FMTTYPE=text/html:<span style="color:black\;"><span style="font-family:arial\,sans-serif\;"><span style="font-size:10.0pt\;">Hartland is pleased to announce our new venture with </span></span></span><strong><span style="color:red\;"><span style="font-family:arial\,sans-serif\;"><span style="font-size:10.0pt\;">&lsquo\;</span></span></span></strong><span style="color:red\;"><span style="font-family:arial\,sans-serif\;"><span style="font-size:10.0pt\;">nalytix</span></span></span><span style="color:black\;"><span style="font-family:arial\,sans-serif\;"><span style="font-size:10.0pt\;">.</span></span></span><br />\n&nbsp\;<br />\n<span style="color:red\;"><span style="font-family:arial\,sans-serif\;"><span style="font-size:10.0pt\;">&lsquo\;nalytix</span></span></span><span style="color:black\;"><span style="font-family:arial\,sans-serif\;"><span style="font-size:10.0pt\;"> &nbsp\;is a mobile and web platform that provides a real-time connection between consumers and local businesses to drive increased engagement in the community. As a flagship community\, our members will have <u style="text-underline:double\;">unlimited</u> and <u style="text-underline:double\;">free</u> access to:</span></span></span>\n<ul>\n	<li style="color:black\;margin-bottom:0in\;margin-bottom:.0001pt\;line-height:normal\;vertical-align:baseline\;"><strong><span style="font-family:arial\,sans-serif\;"><span style="font-size:10.0pt\;">Business Connect</span></span></strong><span style="font-family:arial\,sans-serif\;"><span style="font-size:10.0pt\;">\, the web application to create\, customize and visualize your promotions and engage with your community. With business connect it is easy to create your own algorithm to connect your business with the right customer at the right time by leveraging the power of data and analytics in real time. </span></span></li>\n</ul>\n\n<ul>\n	<li style="color:black\;margin-bottom:0in\;margin-bottom:.0001pt\;line-height:normal\;vertical-align:baseline\;"><strong><span style="font-family:arial\,sans-serif\;"><span style="font-size:10.0pt\;">&lsquo\;nroote</span></span></strong><span style="font-family:arial\,sans-serif\;"><span style="font-size:10.0pt\;">\, the mobile app that builds community by connecting consumers with local businesses and each other. With &lsquo\;nroote it is easy to connect the right promotions and events with the right customers at the right time. </span></span></li>\n</ul>\n&nbsp\;<br />\n<span style="color:black\;"><span style="font-family:arial\,sans-serif\;"><span style="font-size:10.0pt\;">This year\, Governor Walker has declared September\, Chamber of Commerce Month.&nbsp\; Hartland will be recognizing that proclamation by hosting several small events and offering special promotions &ndash\; unlimited and free access to Business Connect and &lsquo\;nroote is part of that. With several workshops planned to explain the product\, now is a great opportunity for any business to attract new customers\, increase brand awareness and learn about </span></span></span><span style="color:red\;"><span style="font-family:arial\,sans-serif\;"><span style="font-size:10.0pt\;">&lsquo\;nalytix</span></span></span><span style="color:black\;"><span style="font-family:arial\,sans-serif\;"><span style="font-size:10.0pt\;"> capabilities. All promotions will be available to consumers through <strong>&lsquo\;nroote</strong> and deployed through <strong>business connect</strong>. </span></span></span><br />\n&nbsp\;<br />\n<span style="color:black\;"><span style="font-family:arial\,sans-serif\;"><span style="font-size:10.0pt\;">Hartland Chamber members are invited to sign up with </span></span></span><span style="color:red\;"><span style="font-family:arial\,sans-serif\;"><span style="font-size:10.0pt\;">&lsquo\;nalytix</span></span></span><span style="color:black\;"><span style="font-family:arial\,sans-serif\;"><span style="font-size:10.0pt\;">&nbsp\; in order to take advantage of this new benefit.</span></span></span><br />\n&nbsp\;<br />\n<strong><span style="color:black\;"><span style="font-family:arial\,sans-serif\;"><span style="font-size:10.0pt\;">Sign up instructions:</span></span></span></strong>\n\n<ol>\n	<li style="color:black\;margin-bottom:0in\;margin-bottom:.0001pt\;line-height:normal\;vertical-align:baseline\;"><span style="font-family:arial\,sans-serif\;"><span style="font-size:10.0pt\;">Register with </span></span><span style="color:red\;"><span style="font-family:arial\,sans-serif\;"><span style="font-size:10.0pt\;">&lsquo\;nalytix</span></span></span><span style="font-family:arial\,sans-serif\;"><span style="font-size:10.0pt\;"> Business Connect by clicking </span></span><u><span style="color:#1155CC\;"><span style="font-family:arial\,sans-serif\;"><span style="font-size:10.0pt\;"><a href="https://businessconnect.nalytix.com/"><span style="color:#1155CC\;">here</span></a></span></span></span></u><span style="font-family:arial\,sans-serif\;"><span style="font-size:10.0pt\;"> and following the steps to sign up. This should take less than 1 minute. </span></span></li>\n	<li style="color:black\;margin-bottom:0in\;margin-bottom:.0001pt\;line-height:normal\;vertical-align:baseline\;"><span style="font-family:arial\,sans-serif\;"><span style="font-size:10.0pt\;">Sign up and attend one of the Onboarding sessions hosted by </span></span><span style="color:red\;"><span style="font-family:arial\,sans-serif\;"><span style="font-size:10.0pt\;">&lsquo\;nalytix</span></span></span> <span style="font-family:arial\,sans-serif\;"><span style="font-size:10.0pt\;">(see below). During these sessions\, </span></span><span style="color:red\;"><span style="font-family:arial\,sans-serif\;"><span style="font-size:10.0pt\;">&lsquo\;nalytix</span></span></span><span style="font-family:arial\,sans-serif\;"><span style="font-size:10.0pt\;"> will help set up your business\, work with each business to create a few promotions and discuss any questions regarding the platform. </span></span>\n	<ol style="list-style-type:lower-alpha\;">\n		<li style="color:black\;margin-bottom:0in\;margin-bottom:.0001pt\;line-height:normal\;vertical-align:baseline\;"><span style="font-family:arial\,sans-serif\;"><span style="font-size:10.0pt\;">To sign up for an onboarding click </span></span><u><span style="color:#1155CC\;"><span style="font-family:arial\,sans-serif\;"><span style="font-size:10.0pt\;"><a href="https://www.signupgenius.com/go/70a0d49a5a722a2fe3-nalytix"><span style="color:#1155CC\;">here</span></a></span></span></span></u><span style="font-family:arial\,sans-serif\;"><span style="font-size:10.0pt\;"> and sign up at least 24 hours before the session.</span></span></li>\n		<li style="color:black\;margin-bottom:0in\;margin-bottom:.0001pt\;line-height:normal\;vertical-align:baseline\;"><span style="font-family:arial\,sans-serif\;"><span style="font-size:10.0pt\;">If you are unable to make any of these events you can contact Rafael Santana at </span></span><u><span style="color:#1155CC\;"><span style="font-family:arial\,sans-serif\;"><span style="font-size:10.0pt\;"><a href="mailto:rafael.santana@nalytix.com"><span style="color:#1155CC\;">rafael.santana@nalytix.com</span></a></span></span></span></u><span style="font-family:arial\,sans-serif\;"><span style="font-size:10.0pt\;"> to schedule an onboarding session. Activate your promotions when ready.</span></span></li>\n	</ol>\n	</li>\n</ol>\n&nbsp\;<br />\n<strong><span style="color:black\;"><span style="font-family:arial\,sans-serif\;"><span style="font-size:10.0pt\;">Onboarding Sessions:</span></span></span></strong><br />\n<strong><span style="color:black\;"><span style="font-family:arial\,sans-serif\;"><span style="font-size:10.0pt\;">When:</span></span></span></strong><br />\n<span style="color:black\;"><span style="font-family:arial\,sans-serif\;"><span style="font-size:10.0pt\;">Wednesdays (7:30am to 8:30am) &nbsp\;September 5\, September 19</span></span></span><br />\n<span style="color:black\;"><span style="font-family:arial\,sans-serif\;"><span style="font-size:10.0pt\;">Wednesdays (11:30am to 12:30pm) September 12\, September 26</span></span></span><br />\n<span style="color:black\;"><span style="font-family:arial\,sans-serif\;"><span style="font-size:10.0pt\;">Tuesdays (5:30pm to 6:30pm) August 28\, September 4\, September 18</span></span></span><br />\n<strong><span style="color:black\;"><span style="font-family:arial\,sans-serif\;"><span style="font-size:10.0pt\;">Where:</span></span></span></strong><br />\n<span style="color:black\;"><span style="font-family:arial\,sans-serif\;"><span style="font-size:10.0pt\;">Village of Hartland Fire Department (150 Lawn Street\, Hartland\, WI 53029)</span></span></span><br />\n&nbsp\;<br />\n<span style="color:black\;"><span style="font-family:arial\,sans-serif\;"><span style="font-size:10.0pt\;">The Hartland Chamber of Commerce is pleased to offer this new benefit to our members in what we hope will be an exciting and productive opportunity for your business and our community. </span></span></span>
LOCATION:Village of Hartland Fire Department Community Room 150 Lawn Street Hartland\, Wi 53029 EXCEPTION: The September 4th session will be held at the Hartland Public Library\, 110 E. Park Avenue\, Hartland.
UID:e.522.137519
SEQUENCE:3
DTSTAMP:20260424T072848Z
URL:https://business.hartland-wi.org/events/details/nalytix-onboarding-sessions-137519
END:VEVENT

END:VCALENDAR
