BEGIN:VCALENDAR
VERSION:2.0
PRODID:-//ChamberMaster//Event Calendar 2.0//EN
METHOD:PUBLISH
X-PUBLISHED-TTL:P3D
REFRESH-INTERVAL:P3D
CALSCALE:GREGORIAN
BEGIN:VEVENT
DTSTART:20181113T173000Z
DTEND:20181113T183000Z
X-MICROSOFT-CDO-ALLDAYEVENT:FALSE
SUMMARY:'Nalytix Onboarding Session
DESCRIPTION:REMINDER TO REGISTER FOR NOV 13th SESSION\n\n \n\nRecently\, Hartland announced a new venture with 'nalytix and businesses continue to on-board.\n\n \n\nWatch this short 01:30 minutes video and read on to learn more regarding how this can help your business. Then\, register for an on-boarding session to really understand the power of the platform.\n\n \n\n'nalytix  is a mobile and web platform that provides a real-time connection between consumers and local businesses to drive increased engagement in the community.\n\n \n\nIt is hard for small businesses\, with limited resources\, to compete in an increasingly digital world. 'nalytix levels the playing field by providing you and your team with access to the same type of tools and data previously only available to large corporations. 'nalytix uses artificial intelligence and data analytics to do the heavy lifting so that you do not have to.\n\n \n\nWith 'nalytix it is easy to:\n\n \n\n- Create personalized promotions and events that leverage real-time customer information.\n\n- Connect the right promotions and events with the right customers at the right time.\n\n - Measure and optimize your promotion and success.\n\n - Visualize community trends and behaviors.\n\n \n\nAll of this with a focus on local community engagement so that every dollar your customer spends stays in the community.\n\n \n\nSign up instructions:\n\n	Register with 'nalytix Business Connect by clicking here and following the steps to sign up. This should take less than 1 minute.\n	Sign up and attend one of the on-boarding events hosted by 'nalytix (see below). During these sessions\, 'nalytix will help set up your business\, work with each business to create a few promotions and discuss any questions regarding the platform.\n\n \n\nOn-boarding Sessions: (time\, date\, location)   click here to signup\n\n \n\n	\n		\n			Date\n			Time\n			Location\n		\n		\n			Tuesday\, Nov 13\n			11:30 AM   12:30 PM\n			Hartland Public Library\n		\n	\n\n\n\n We believe that our partnership with 'nalytix is an exciting and productive opportunity for your business and our community.
X-ALT-DESC;FMTTYPE=text/html:<strong><span style="background:yellow\;">REMINDER TO REGISTER FOR NOV 13<sup>th</sup> SESSION</span></strong><br />\n&nbsp\;<br />\nRecently\, Hartland announced a new venture with&nbsp\;<strong>&lsquo\;</strong>nalytix and businesses continue to on-board.<br />\n&nbsp\;<br />\n<strong>Watch this short 01:30 minutes&nbsp\;<a href="https://youtu.be/rpw5thCAlLs">video</a>&nbsp\;and read on to learn more regarding how this can help your business. Then\, register for an on-boarding session to really understand the power of the platform.</strong><br />\n&nbsp\;<br />\n&lsquo\;nalytix&nbsp\;&nbsp\;is a mobile and web platform that provides a real-time connection between consumers and local businesses to drive increased engagement in the community.<br />\n&nbsp\;<br />\nIt is hard for small businesses\, with limited resources\, to compete in an increasingly digital world. &lsquo\;nalytix levels the playing field by providing you and your team with access to the same type of tools and data previously only available to large corporations. &lsquo\;nalytix uses artificial intelligence and data analytics to do the heavy lifting so that you do not have to.<br />\n&nbsp\;<br />\nWith &lsquo\;nalytix it is easy to:<br />\n&nbsp\;<br />\n-&nbsp\;Create personalized promotions and events that leverage real-time customer information.<br />\n- Connect the right promotions and events with the right customers at the right time.<br />\n&nbsp\;- Measure and optimize your promotion and success.<br />\n&nbsp\;- Visualize community trends and behaviors.<br />\n&nbsp\;<br />\nAll of this with a focus on local community engagement so that every dollar your customer spends stays in the community.<br />\n&nbsp\;<br />\n<strong>Sign up instructions:</strong>\n<ol>\n	<li>Register with&nbsp\;&lsquo\;nalytix&nbsp\;Business Connect by clicking&nbsp\;<a href="https://businessconnect.nalytix.com/">here</a>&nbsp\;and following the steps to sign up. This should take less than 1 minute.</li>\n	<li><a href="https://www.signupgenius.com/go/70A0D49A5A722A2FE3-onboarding">Sign up</a>&nbsp\;and attend one of the on-boarding events hosted by&nbsp\;&lsquo\;nalytix&nbsp\;(see below). During these sessions\,&nbsp\;&lsquo\;nalytix&nbsp\;will help set up your business\, work with each business to create a few promotions and discuss any questions regarding the platform.</li>\n</ol>\n&nbsp\;<br />\n<strong>On-boarding Sessions: (time\, date\, location) &ndash\; click&nbsp\;<a href="https://www.signupgenius.com/go/70A0D49A5A722A2FE3-onboarding">here</a>&nbsp\;to signup</strong><br />\n&nbsp\;\n<table border="0" cellpadding="0" cellspacing="0" style="background:#F0F0F0\;border-collapse:collapse\;">\n	<tbody>\n		<tr>\n			<td style="width:208px\;border:solid windowtext 1.0pt\;padding:0in 5.4pt 0in 5.4pt\;vertical-align:top\;"><strong>Date</strong></td>\n			<td style="width:208px\;border:solid windowtext 1.0pt\;border-left:none\;padding:0in 5.4pt 0in 5.4pt\;vertical-align:top\;"><strong>Time</strong></td>\n			<td style="width:208px\;border:solid windowtext 1.0pt\;border-left:none\;padding:0in 5.4pt 0in 5.4pt\;vertical-align:top\;"><strong>Location</strong></td>\n		</tr>\n		<tr>\n			<td style="width:208px\;border:solid windowtext 1.0pt\;border-top:none\;padding:0in 5.4pt 0in 5.4pt\;vertical-align:top\;"><span style="background-color: rgb(240\, 240\, 240)\;">Tuesday\, Nov 13</span></td>\n			<td style="width:208px\;border-top:none\;border-left:none\;border-bottom:solid windowtext 1.0pt\;border-right:solid windowtext 1.0pt\;padding:0in 5.4pt 0in 5.4pt\;vertical-align:top\;"><span style="background-color: rgb(240\, 240\, 240)\;">11:30 AM &ndash\; 12:30 PM</span></td>\n			<td style="width:208px\;border-top:none\;border-left:none\;border-bottom:solid windowtext 1.0pt\;border-right:solid windowtext 1.0pt\;padding:0in 5.4pt 0in 5.4pt\;vertical-align:top\;"><span style="background-color: rgb(240\, 240\, 240)\;">Hartland Public Library</span></td>\n		</tr>\n	</tbody>\n</table>\n<br />\n&nbsp\;We believe that our partnership with&nbsp\;&lsquo\;nalytix&nbsp\;is an exciting and productive opportunity for your business and our community.<br />\n&nbsp\;
LOCATION:Hartland Public Library 110 E. Park Avenue Hartland\, WI 53029
UID:e.522.137617
SEQUENCE:3
DTSTAMP:20260424T102426Z
URL:https://business.hartland-wi.org/events/details/nalytix-onboarding-session-137617
END:VEVENT

END:VCALENDAR
