BEGIN:VCALENDAR
VERSION:2.0
PRODID:-//ChamberMaster//Event Calendar 2.0//EN
METHOD:PUBLISH
X-PUBLISHED-TTL:P3D
REFRESH-INTERVAL:P3D
CALSCALE:GREGORIAN
BEGIN:VEVENT
DTSTART:20111020T213000Z
DTEND:20111021T000000Z
X-MICROSOFT-CDO-ALLDAYEVENT:FALSE
SUMMARY:Multi-Chamber Networking - Business After Five 2011
DESCRIPTION:MULTI-CHAMBER NETWORKING - BUSINESS AFTER FIVE\n\n	 \n\n	MEMBER ONLY EVENT!\n\n	Pre-registration with $15 payment is required\n\n	NO WALK-INS ACCEPTED\n\n	 \n\n	The Hartland Chamber has partnered with 12 Waukesha County chambers for this annual opportunity to network with up to 600 businesses in the area for a very small fee.  Only chamber members are able to take advantage of this remarkable networking opportunity so bring lots of business cards!\n\n	\n\n	 \n\n	Click Here For Registration Form  or Register Online Using your Member Login Info!\n\n	 \n\n	For additional exposure\, we are accepting door prizes from members with a minimum value of $25.00 which may be used as a standalone prize or added to a gift basket.\n\n	Contact the Hartland Chamber if you are interested.
X-ALT-DESC;FMTTYPE=text/html:<div style="text-align: center">\n	<span style="color: #0000cd"><span style="font-size: 14px"><strong>MULTI-CHAMBER&nbsp\;NETWORKING&nbsp\;- BUSINESS&nbsp\;AFTER&nbsp\;FIVE</strong></span></span></div>\n<div style="text-align: center">\n	&nbsp\;</div>\n<div style="text-align: center">\n	<strong><span style="font-size: 14px"><tt><span style="background-color: #ffff00">MEMBER&nbsp\;ONLY&nbsp\;EVENT</span>!</tt></span></strong></div>\n<div style="text-align: center">\n	<strong><span style="font-size: 14px"><tt>Pre-registration with $15 payment is required<br />\n	NO WALK-INS ACCEPTED</tt></span></strong></div>\n<div>\n	&nbsp\;</div>\n<div>\n	The Hartland Chamber has partnered with 12&nbsp\;Waukesha County&nbsp\;chambers&nbsp\;for this annual opportunity to network with up to 600 businesses in the area for a very small fee.&nbsp\; <strong>Only chamber members are able to take advantage of this remarkable networking opportunity so bring lots of business cards!</strong><br />\n	<br />\n	&nbsp\;</div>\n<div style="text-align: center">\n	<a href="http://cloud.chambermaster.com/userfiles/UserFiles/chambers/522/File/hartland_2011.pdf"><strong><span style="background-color: #00ffff">Click Here For Registration Form</span></strong>&nbsp\; </a>or Register Online Using your Member Login Info!</div>\n<div>\n	&nbsp\;</div>\n<div style="text-align: center">\n	For additional exposure\, we are accepting door prizes from members with a minimum value of $25.00 which may be used as a standalone prize or added to a gift basket.</div>\n<div style="text-align: center">\n	Contact the Hartland Chamber if you are interested.</div>\n
LOCATION:Sheraton Milwaukee Brookfield Hotel375 S. Moorland RoadBrookfield\, 53005
UID:e.522.131249
SEQUENCE:3
DTSTAMP:20260422T041950Z
URL:https://business.hartland-wi.org/events/details/multi-chamber-networking-business-after-five-2011-10-20-2011-131249
END:VEVENT

END:VCALENDAR
