BEGIN:VCALENDAR
VERSION:2.0
PRODID:-//ChamberMaster//Event Calendar 2.0//EN
METHOD:PUBLISH
X-PUBLISHED-TTL:P3D
REFRESH-INTERVAL:P3D
CALSCALE:GREGORIAN
BEGIN:VEVENT
DTSTART:20180402T150000Z
DTEND:20180408T230000Z
X-MICROSOFT-CDO-ALLDAYEVENT:FALSE
SUMMARY:Mom and Pop Open Shop
DESCRIPTION:Employees of our Local Small Businesses!\n\nYOU are invited to a SPECIAL SHOPPING EVENT!\n\n\n\nCostco Wholesale in Pewaukee\, WI is offering a day to "Shop Like A Member" during the week of April 2nd-8th to employees of our local small businesses.   You will be able to enjoy samples\, purchase products\, and become familiar with our warehouse.  If you decide to join as a new member (a new member is someone who has NOT been a member of Costco for atleast 18 months)\, you will receive a Costco Cash Card upon sign-up.  To join at this event stop by the membership counter and let them know that you saw this event on the Hartland Chamber website and what small business you are from. The membership represetntative will give you a "One Day Shopping Pass" to shop that day.
X-ALT-DESC;FMTTYPE=text/html:<div style="text-align: center\;"><span style="font-size:18px"><span style="font-size:20px"><span style="font-family:verdana\,sans-serif">Employees of our </span><strong><span style="font-family:verdana\,sans-serif">Local Small Businesses!</span></strong></span><br />\n<span style="font-family:verdana\,sans-serif">YOU are invited to a </span><strong><span style="font-family:verdana\,sans-serif"><span style="background-color:rgb(255\, 255\, 0)">SPECIAL SHOPPING EVENT!</span></span></strong></span></div>\n\n<div style="text-align: center\;"><br />\n<span style="font-size:16px"><span style="font-family:times new roman">Costco Wholesale in Pewaukee\, WI is offering a day to &ldquo\;Shop Like A Member&rdquo\; during the week of April 2<sup>nd</sup>-8<sup>th</sup> to employees of our local small businesses.&nbsp\;&nbsp\;&nbsp\;You will be able to enjoy samples\, purchase products\, and become familiar with our warehouse.&nbsp\; If&nbsp\;you decide to join as a new member <em>(a new member is someone who has NOT been a member of Costco for atleast 18 months)\,&nbsp\;</em>you will receive a Costco Cash Card upon sign-up.&nbsp\; To join at this event stop by the membership counter and let them know that you saw this event on the Hartland Chamber website and what small business you are from.&nbsp\;The membership represetntative&nbsp\;will give you a &quot\;One Day Shopping Pass&quot\; to shop that day.&nbsp\; </span></span><br />\n&nbsp\;</div>\n
LOCATION:Costco Wholesale in Pewaukee\, WI.
UID:e.522.137242
SEQUENCE:3
DTSTAMP:20260423T232424Z
URL:https://business.hartland-wi.org/events/details/mom-and-pop-open-shop-137242
END:VEVENT

END:VCALENDAR
