BEGIN:VCALENDAR
VERSION:2.0
PRODID:-//ChamberMaster//Event Calendar 2.0//EN
METHOD:PUBLISH
X-PUBLISHED-TTL:P3D
REFRESH-INTERVAL:P3D
CALSCALE:GREGORIAN
BEGIN:VEVENT
DTSTART:20121117T183000Z
DTEND:20121117T190000Z
X-MICROSOFT-CDO-ALLDAYEVENT:FALSE
SUMMARY:Modern Woodmen of America - Social Gathering
DESCRIPTION:Each member of Modern Woodmen of America\, their family\, their guests and any one else may attend. \n\n	Each person will receive $4.00 towards any menu items.
X-ALT-DESC;FMTTYPE=text/html:<p>\n	Each member of Modern Woodmen of America\, their family\, their guests and any one else may attend.&nbsp\;<br />\n	Each person will receive $4.00 towards any menu items.&nbsp\;</p>\n
LOCATION:Chili's - Highway 67 Oconomowoc\, WI
UID:e.522.132041
SEQUENCE:3
DTSTAMP:20260421T060745Z
URL:https://business.hartland-wi.org/events/details/modern-woodmen-of-america-social-gathering-11-17-2012-132041
END:VEVENT

END:VCALENDAR
