BEGIN:VCALENDAR
VERSION:2.0
PRODID:-//ChamberMaster//Event Calendar 2.0//EN
METHOD:PUBLISH
X-PUBLISHED-TTL:P3D
REFRESH-INTERVAL:P3D
CALSCALE:GREGORIAN
BEGIN:VEVENT
DTSTART:20180324T130000Z
DTEND:20180324T143000Z
X-MICROSOFT-CDO-ALLDAYEVENT:FALSE
SUMMARY:Military Shopping Hour
DESCRIPTION:March 24\, 2018 Doors open at 8 AM!\n\n\n\nHave you ever wished to shop Costco earlier? If you are a member of Costco and have served in the Military\, you and your family are welcome to shop the warehouse before our doors open to the public!  The first 100 members through the door will get a swag bag. There will be snacks for you to enjoy along with samples throughout the warehouse. \n\nNot a member of Costco? We have a special membership offer for you!  This offer is exclusively for military personnel who join as a new Costco member (a new member is someone who has NOT been a Costco member for at least 18 months).    \n\n \n\nSign up before the event at SheerID or ID.me!
X-ALT-DESC;FMTTYPE=text/html:<div style="text-align: center\;"><span style="font-size:16px"><strong><span style="font-family:baskerville old face\,serif">March 24\, 2018 Doors open at 8 AM!</span></strong><br />\n<br />\n<span style="font-family:baskerville old face\,serif">Have you ever wished to shop Costco earlier? </span><span style="font-family:baskerville old face\,serif">If you are a member of Costco and have served in the Military\, </span><span style="font-family:baskerville old face\,serif">you and your family are welcome to shop the warehouse before </span><span style="font-family:baskerville old face\,serif">our doors open to the public!&nbsp\; <span class="marker">The first 100 members through </span></span><span style="font-family:baskerville old face\,serif"><span class="marker">the door will get a swag bag.</span> There will be snacks for you to </span><span style="font-family:baskerville old face\,serif">enjoy along with samples throughout the warehouse. </span><br />\n<strong><span style="font-family:baskerville old face\,serif">Not a member of Costco? </span></strong><span style="font-family:baskerville old face\,serif">We have a special membership </span><span style="font-family:baskerville old face\,serif">offer for you!&nbsp\; This offer is exclusively for military personnel who join as a new Costco member </span><em><span style="font-family:baskerville old face\,serif">(a new member is someone who has NOT been a Costco </span></em><em><span style="font-family:baskerville old face\,serif">member for at least 18 months).&nbsp\;&nbsp\;</span></em><span style="font-family:baskerville old face\,serif">&nbsp\;&nbsp\;</span><br />\n&nbsp\;<br />\n<span style="font-family:baskerville old face\,serif">Sign up before the event at SheerID or ID.me!</span></span></div>\n
LOCATION:Costco Wholesale in Pewaukee\, WI.
UID:e.522.137239
SEQUENCE:3
DTSTAMP:20260423T214028Z
URL:https://business.hartland-wi.org/events/details/military-shopping-hour-137239
END:VEVENT

END:VCALENDAR
