BEGIN:VCALENDAR
VERSION:2.0
PRODID:-//ChamberMaster//Event Calendar 2.0//EN
METHOD:PUBLISH
X-PUBLISHED-TTL:P3D
REFRESH-INTERVAL:P3D
CALSCALE:GREGORIAN
BEGIN:VEVENT
DTSTART:20140611T223000Z
DTEND:20140612T000000Z
X-MICROSOFT-CDO-ALLDAYEVENT:FALSE
SUMMARY:Merchants Night at SumerStage
DESCRIPTION:Merchants Night at SummerStage\n\n\n\nPlease join us from 5:30 - 7:00 pm for a reception and at 7:30 pm for a free preview of our play\n\n\n\n"Don't Drink the Water" \n\n\n\nDon't forget to bring a chair.  You may also carry in food and drink.  Refreshments\, including beer\, wine\, snacks and popcorn will also be available at our concession stand.
X-ALT-DESC;FMTTYPE=text/html:<div style="text-align: center\;"><span style="font-size: 14px\;"><span style="font-size: 16px\;">&nbsp\;<span style="color: rgb(0\, 128\, 0)\;"><u><strong>Merchants Night at SummerStage</strong></u></span></span><br />\n<br />\nPlease join us from 5:30 - 7:00 pm for a reception and at 7:30 pm for a free preview of our play<br />\n<br />\n<strong><span style="font-size: 18px\;"><span style="color: rgb(0\, 0\, 205)\;"><span style="font-family: comic sans ms\;"><em>&quot\;Don&#39\;t Drink the Water&quot\;</em> </span></span></span></strong><br />\n<br />\n<span style="font-size: 18px\;"><span style="font-size: 12px\;">Don&#39\;t forget to bring a chair.&nbsp\; You may also carry in food and drink.&nbsp\; Refreshments\, including beer\, wine\, snacks and popcorn will also be available at our concession stand.</span></span></span><br />\n&nbsp\;</div>\n
LOCATION:SummerStage at Lapham Peak
UID:e.522.133062
SEQUENCE:3
DTSTAMP:20260420T161526Z
URL:https://business.hartland-wi.org/events/details/merchants-night-at-sumerstage-06-11-2014-133062
END:VEVENT

END:VCALENDAR
