BEGIN:VCALENDAR
VERSION:2.0
PRODID:-//ChamberMaster//Event Calendar 2.0//EN
METHOD:PUBLISH
X-PUBLISHED-TTL:P3D
REFRESH-INTERVAL:P3D
CALSCALE:GREGORIAN
BEGIN:VEVENT
DTSTART:20130410T003000Z
DTEND:20130410T013000Z
X-MICROSOFT-CDO-ALLDAYEVENT:FALSE
SUMMARY:MegaTrends 2013 - Has the Next Global Crisis Arrived?
DESCRIPTION:Don't Miss Our Upcoming Summit\n\n	On Tuesday\, April 9\, at 7:30 PM CDT\nMegaTrends 2013 - Has the Next Global Crisis Arrived? \n\nJoin us for insightful commentary from inside Washington beltway and how Fiscal and Monetary Policy is affecting your portfolios.\n\n\n\nDina Fliss of Global View Capital Management and Sara Imhof of The Concord Coalition as they discuss how Fiscal and Monetary Policy is affecting your portfolios.\n\n	Webinar - Registar at - https://www2.gotomeeting.com/register/360928794\n\n	 \n\n	 \n\n	the
X-ALT-DESC;FMTTYPE=text/html:<p>\n	<strong><span style="font-size: 14px\;"><span style="font-family: times new roman\;"><span style="color: rgb(0\, 0\, 0)\;">Don&rsquo\;t Miss Our Upcoming Summit<br />\n	On Tuesday\, April 9\, at 7:30 PM CDT</span></span></span></strong></p>\n<span style="font-size: 14px\;"><span style="font-family: times new roman\;"><span style="font-size: 16px\;"><em><strong>MegaTrends 2013 - </strong></em></span><span style="font-size: 10px\;"><strong><span style="font-size: 14px\;"><span style="color: rgb(0\, 0\, 0)\;"><span style="font-size: 16px\;"><em>Has the Next Global Crisis Arrived?</em></span> </span></span><br />\n<font color="#e29825"><font color="#e29825"><font color="#e29825"><span style="color: rgb(0\, 0\, 0)\;"><span style="font-size: 14px\;"><span style="color: rgb(0\, 0\, 0)\;">Join us for insightful commentary from inside </span>Washington beltway and how Fiscal and Monetary Policy is affecting your portfolios.</span></span></font></font></font></strong></span></span></span><br />\n<br />\n<span style="font-size: 16px\;"><span style="font-family: times new roman\;"><b><span style="color: rgb(0\, 0\, 0)\;"><font face="HelveticaNeue-Bold"><font face="HelveticaNeue-Bold">Dina Fliss of Global View Capital Management and Sara Imhof of The Concord Coalition as they discuss how Fiscal and Monetary Policy is affecting your portfolios.</font></font></span></b></span></span>\n<p align="LEFT">\n	<span style="font-family: times new roman\;"><b><span style="color: rgb(0\, 0\, 0)\;"><font face="HelveticaNeue-Bold"><font face="HelveticaNeue-Bold"><span style="color: rgb(0\, 0\, 0)\;"><b><font size="1">Webinar - Registar at - </font><a href="https://www2.gotomeeting.com/register/360928794"><font size="1">https://www2.gotomeeting.com/register/360928794</font></a></b></span></font></font></span></b></span></p>\n<p align="LEFT">\n	<a href="https://www2.gotomeeting.com/register/360928794"><span style="font-family: times new roman\;"><b><font face="HelveticaNeue-Bold"><font face="HelveticaNeue-Bold">&nbsp\;</font></font></b></span></a></p>\n<p align="LEFT">\n	&nbsp\;</p>\n<p align="LEFT">\n	<a href="https://www2.gotomeeting.com/register/360928794"><span style="font-size: 14px\;"><span style="font-family: times new roman\;"><b><font color="#e29825" face="HelveticaNeue-Bold" size="5"><font color="#e29825" face="HelveticaNeue-Bold" size="5"><font color="#e29825" face="HelveticaNeue-Bold" size="5"><b><font color="#ffffff" face="HelveticaNeue-Bold" size="5"><font color="#ffffff" face="HelveticaNeue-Bold" size="5"><font color="#ffffff" face="HelveticaNeue-Bold" size="5">the</font></font></font></b></font></font></font></b></span></span></a></p>\n<p>\n	<a href="https://www2.gotomeeting.com/register/360928794"><span style="font-size: 14px\;"><span style="font-family: times new roman\;"><b><span style="font-size: 12px\;"><font face="HelveticaNeue-Bold"><font face="HelveticaNeue-Bold"><font face="HelveticaNeue-Bold">&nbsp\;</font></font></font></span></b></span></span></a></p>\n<p>\n	&nbsp\;</p>\n<p>\n	&nbsp\;</p>\n
LOCATION:Webinar - Registar at - https://www2.gotomeeting.com/register/360928794
UID:e.522.132375
SEQUENCE:3
DTSTAMP:20260420T230528Z
URL:https://business.hartland-wi.org/events/details/megatrends-2013-has-the-next-global-crisis-arrived-04-09-2013-132375
END:VEVENT

END:VCALENDAR
