BEGIN:VCALENDAR
VERSION:2.0
PRODID:-//ChamberMaster//Event Calendar 2.0//EN
METHOD:PUBLISH
X-PUBLISHED-TTL:P3D
REFRESH-INTERVAL:P3D
CALSCALE:GREGORIAN
BEGIN:VEVENT
DTSTART:20181016T220000Z
DTEND:20181017T000000Z
X-MICROSOFT-CDO-ALLDAYEVENT:FALSE
SUMMARY:Meaningul Living with Mindfulness & Meditation
DESCRIPTION:Summit Community Health Beat\n\nMeaningful Living with Mindfulness & Meditation\n\n\n\nMindfulness is an approach that improves health by learning specific tools to alleviate stress which affects our entire body.\n\n\n\nParticipants will learn mindfulness basics and exercises\, followed by a discussion. Join Robin Monson-Dupuis\, Behavioral Health Director and learn how to reduce your stress level\, stay in the moment and learn how our minds and bodies are interconnected.\n\n\n\nRegistration is required by phoning:  888-863-5502 or contact Trish Golden at 262-434-1248
X-ALT-DESC;FMTTYPE=text/html:<div style="text-align: center\;"><strong>Summit Community Health Beat<br />\nMeaningful Living with Mindfulness &amp\; Meditation<br />\n<br />\nMindfulness is an approach that improves health by learning specific tools to alleviate stress which affects our entire body.<br />\n<br />\nParticipants will learn mindfulness basics and exercises\, followed by a discussion. Join Robin Monson-Dupuis\, Behavioral Health Director and learn how to reduce your stress level\, stay in the moment and learn how our minds and bodies are interconnected.<br />\n<br />\nRegistration is required by phoning:&nbsp\; 888-863-5502 or contact Trish Golden at 262-434-1248</strong><br />\n&nbsp\;</div>\n
LOCATION:Aurora Medical Center Summit Draper Hall 36500 Aurora Drive Summit\, WI
UID:e.522.137477
SEQUENCE:3
DTSTAMP:20260424T091003Z
URL:https://business.hartland-wi.org/events/details/meaningul-living-with-mindfulness-meditation-137477
END:VEVENT

END:VCALENDAR
