BEGIN:VCALENDAR
VERSION:2.0
PRODID:-//ChamberMaster//Event Calendar 2.0//EN
METHOD:PUBLISH
X-PUBLISHED-TTL:P3D
REFRESH-INTERVAL:P3D
CALSCALE:GREGORIAN
BEGIN:VEVENT
DTSTART:20180504T180000Z
DTEND:20180504T210000Z
X-MICROSOFT-CDO-ALLDAYEVENT:FALSE
SUMMARY:May Free Skin Cancer Screenings
DESCRIPTION:Free Skin Cancer Screenings\n\nRegistration is required!\n\nPhone:  262-434-1000 and ask for the Dermatology Dept.\n\n\n\nEach year\, chances are good that skin cancer will affect the community with more than 3.5 million new skin cancers being diagnosed in more than 2 million people annually\, according to the American Dermatology Association.\n\n\n\nJoin\, an Aurora Medical Center Summit\, board certified dermatologist for this free screening event.\n\n\n\nPlease no walk ins.
X-ALT-DESC;FMTTYPE=text/html:<div style="text-align: center\;"><strong>Free Skin Cancer Screenings<br />\nRegistration is required!<br />\nPhone:&nbsp\; 262-434-1000 and ask for the Dermatology Dept.<br />\n<br />\nEach year\, chances are good that skin cancer will affect the community with more than 3.5 million new skin cancers being diagnosed in more than 2 million people annually\, according to the American Dermatology Association.<br />\n<br />\nJoin\, an Aurora Medical Center Summit\, board certified dermatologist for this free screening event.<br />\n<br />\nPlease no walk ins.</strong><br />\n&nbsp\;</div>\n
LOCATION:Aurora Wilkinson Clinic 36500 Aurora Drive Summit\, WI
UID:e.522.137171
SEQUENCE:3
DTSTAMP:20260424T050455Z
URL:https://business.hartland-wi.org/events/details/may-free-skin-cancer-screenings-137171
END:VEVENT

END:VCALENDAR
