BEGIN:VCALENDAR
VERSION:2.0
PRODID:-//ChamberMaster//Event Calendar 2.0//EN
METHOD:PUBLISH
X-PUBLISHED-TTL:P3D
REFRESH-INTERVAL:P3D
CALSCALE:GREGORIAN
BEGIN:VEVENT
DTSTART:20140503T130000Z
DTEND:20140503T170000Z
X-MICROSOFT-CDO-ALLDAYEVENT:FALSE
SUMMARY:Make a difference in the local fight against cancer.
DESCRIPTION:Register and raise funds for the ProHealth Care LakeWalk for Cancer held on Saturday\, May 3\, at Fowler Park. Funds raised at LakeWalk support local cancer research\, education and more in Oconomowoc.\n\n			 \n\n			Register by March 21 to receive the early bird rate of just $20!  Gather your friends\, family\, co-workers and classmates\, and create a team!
X-ALT-DESC;FMTTYPE=text/html:<div style="mso-element: frame\; mso-element-frame-hspace: 9.0pt\; mso-element-wrap: around\; mso-element-anchor-vertical: page\; mso-element-anchor-horizontal: margin\; mso-element-top: 72.85pt\; mso-height-rule: exactly\;">\n<table align="left" cellpadding="0" cellspacing="0" hspace="0" vspace="0">\n	<tbody>\n		<tr>\n			<td align="left" style="padding: 0in 9pt\; border: rgb(0\, 0\, 0)\; border-image: none\; background-color: transparent\;" valign="top">\n			<p class="MsoNormal" style="margin: 0in 0in 0pt\; mso-element: frame\; mso-element-frame-hspace: 9.0pt\; mso-element-wrap: around\; mso-element-anchor-vertical: page\; mso-element-anchor-horizontal: margin\; mso-element-top: 72.85pt\; mso-height-rule: exactly\;"><font size="3"><font color="#000000"><font face="Calibri">Register and raise funds for the ProHealth Care LakeWalk for Cancer held on Saturday\, May 3\, at Fowler Park. Funds raised at LakeWalk support local cancer research\, education and more&nbsp\;in Oconomowoc.<o:p></o:p></font></font></font></p>\n\n			<p class="MsoNormal" style="margin: 0in 0in 0pt\; mso-element: frame\; mso-element-frame-hspace: 9.0pt\; mso-element-wrap: around\; mso-element-anchor-vertical: page\; mso-element-anchor-horizontal: margin\; mso-element-top: 72.85pt\; mso-height-rule: exactly\;"><o:p><font color="#000000" face="Calibri" size="3">&nbsp\;</font></o:p></p>\n\n			<p class="MsoNormal" style="margin: 0in 0in 0pt\; mso-element: frame\; mso-element-frame-hspace: 9.0pt\; mso-element-wrap: around\; mso-element-anchor-vertical: page\; mso-element-anchor-horizontal: margin\; mso-element-top: 72.85pt\; mso-height-rule: exactly\;"><font face="Calibri"><font size="3"><font color="#000000">Register by March 21 to receive the early bird rate of just $20!<span style="mso-spacerun: yes\;">&nbsp\; </span>Gather your friends\, family\, co-workers and classmates\, and create a team!<o:p></o:p></font></font></font></p>\n			</td>\n		</tr>\n	</tbody>\n</table>\n</div>\n
LOCATION:Fowler Park\, Oconomowoc
UID:e.522.132828
SEQUENCE:3
DTSTAMP:20260420T123731Z
URL:https://business.hartland-wi.org/events/details/make-a-difference-in-the-local-fight-against-cancer-05-03-2014-132828
END:VEVENT

END:VCALENDAR
