BEGIN:VCALENDAR
VERSION:2.0
PRODID:-//ChamberMaster//Event Calendar 2.0//EN
METHOD:PUBLISH
X-PUBLISHED-TTL:P3D
REFRESH-INTERVAL:P3D
CALSCALE:GREGORIAN
BEGIN:VEVENT
DTSTART:20190330T000000Z
DTEND:20190330T013000Z
X-MICROSOFT-CDO-ALLDAYEVENT:FALSE
SUMMARY:Mad Science at Zion Lutheran School
DESCRIPTION:Mad Science is coming to Zion Lutheran School!\n\nThis highly interactive FREE show & activities will entertain both kids & parents alike.\n\n(The slime startion has a $2 per item materials charge)
X-ALT-DESC;FMTTYPE=text/html:Mad Science is coming to Zion Lutheran School!<br />\nThis highly interactive FREE show &amp\; activities will entertain both kids &amp\; parents alike.<br />\n(The slime startion has a $2 per item materials charge)
LOCATION:Zion Lutheran School 1023 East Capitol Dr.\, Hartland\, WI
UID:e.522.137694
SEQUENCE:3
DTSTAMP:20260424T174807Z
URL:https://business.hartland-wi.org/events/details/mad-science-at-zion-lutheran-school-137694
END:VEVENT

END:VCALENDAR
