BEGIN:VCALENDAR
VERSION:2.0
PRODID:-//ChamberMaster//Event Calendar 2.0//EN
METHOD:PUBLISH
X-PUBLISHED-TTL:P3D
REFRESH-INTERVAL:P3D
CALSCALE:GREGORIAN
BEGIN:VEVENT
DTSTART:20180425T163000Z
DTEND:20180425T180000Z
X-MICROSOFT-CDO-ALLDAYEVENT:FALSE
SUMMARY:Lunchtime Education Series - "Hungry for Knowledge"
DESCRIPTION:Avoiding Costly Wage and Hour Traps...What every employer needs to know!\n\n\n\nThe Hartland Chamber of Commerce presents SCORE representative \n\nAttorney Rebeca M. Lopez of Godfrey Kahn S. C. \n\nAttorney Lopez will present an interactive workshop designed\n\nto educate all employers on how to avoid costly wage and hour traps.\n\nFailure to understand and follow the often complex federal and Wisconsin wage and hour laws can result in significant financial liability for companies and potential personal liability for owners.  This interactive workshop provides employers of all sizes (and those individuals thinking about starting their own business) critical information and guidance to help them comply with wage and hour laws.  This training will emphasize a practical approach to challenges associated with paying your employees.\n\n \n\nApril 25\, 2018\n\n11:30 am - 1:00 pm\n\nHartland Fire Department Community Room\n\n150 Lawn Street\, Hartland\n\n \n\nThe workshop is open to the public\n\n\n\n$20/Chamber Member\n\n$25/Non-Member\n\n(Box lunch provided)
X-ALT-DESC;FMTTYPE=text/html:<div style="text-align: center\;"><strong><span style="font-size:14px\;"><span style="color:#0000CD\;">Avoiding Costly Wage and Hour Traps...What every employer needs to know!</span></span></strong><br />\n<br />\n<span style="color:#0000CD\;">The Hartland Chamber of Commerce presents SCORE representative&nbsp\;<br />\nAttorney Rebeca M. Lopez of Godfrey Kahn S. C.&nbsp\;<br />\nAttorney Lopez will present an&nbsp\;interactive workshop designed<br />\nto educate all employers on how to avoid costly wage and hour traps.</span></div>\n\n<div><span style="color:#1F497D\;">Failure to understand and follow the often complex federal and Wisconsin wage and hour laws can result in significant financial liability for companies and potential personal liability for owners. &nbsp\;This interactive workshop provides employers of all sizes (and those individuals thinking about starting their own business) critical information and guidance to help them comply with wage and hour laws.&nbsp\; This training will emphasize a practical approach to challenges associated with paying your employees.</span><br />\n&nbsp\;</div>\n\n<div style="text-align: center\;"><strong><span style="color:#0000FF\;">April 25\, 2018<br />\n11:30 am - 1:00 pm<br />\nHartland&nbsp\;Fire Department Community Room<br />\n150&nbsp\;Lawn Street\, Hartland<br />\n&#8203\;</span><br />\n<em><span style="color:#FF0000\;">The workshop is open to the public</span></em><br />\n<br />\n<span style="color:#0000FF\;">$20/Chamber Member<br />\n$25/Non-Member<br />\n(Box lunch provided)</span></strong></div>\n
LOCATION:Hartland Fire Department Community Room 150 Lawn Street\, Hartland
UID:e.522.137216
SEQUENCE:3
DTSTAMP:20260423T232301Z
URL:https://business.hartland-wi.org/events/details/lunchtime-education-series-hungry-for-knowledge-137216
END:VEVENT

END:VCALENDAR
