BEGIN:VCALENDAR
VERSION:2.0
PRODID:-//ChamberMaster//Event Calendar 2.0//EN
METHOD:PUBLISH
X-PUBLISHED-TTL:P3D
REFRESH-INTERVAL:P3D
CALSCALE:GREGORIAN
BEGIN:VEVENT
DTSTART:20180512T230000Z
DTEND:20180513T013000Z
X-MICROSOFT-CDO-ALLDAYEVENT:FALSE
SUMMARY:Luau DJ SKate at the Mullett Ice Center
DESCRIPTION:Come join us for another fun DJ skate this time is is a luau. Family\, Fun\, Skating\, Friends\, what more can you ask for.
X-ALT-DESC;FMTTYPE=text/html:Come join us for another fun DJ skate this time is is a luau. Family\, Fun\, Skating\, Friends\, what more can you ask for.&nbsp\;
LOCATION:The Mullett Ice Center located on the Arrowhead Campus 700 North Ave Hartland\, WI 53029
UID:e.522.137257
SEQUENCE:3
DTSTAMP:20260424T011309Z
URL:https://business.hartland-wi.org/events/details/luau-dj-skate-at-the-mullett-ice-center-137257
END:VEVENT

END:VCALENDAR
