BEGIN:VCALENDAR
VERSION:2.0
PRODID:-//ChamberMaster//Event Calendar 2.0//EN
METHOD:PUBLISH
X-PUBLISHED-TTL:P3D
REFRESH-INTERVAL:P3D
CALSCALE:GREGORIAN
BEGIN:VEVENT
DTSTART:20160625T130000Z
DTEND:20160625T160000Z
X-MICROSOFT-CDO-ALLDAYEVENT:FALSE
SUMMARY:Lombardi Walk to Tackle Cancer
DESCRIPTION:In our community\,\n\nwe tackle cancer as a team.  That's why Aurora Cancer Care and the Vince Lombardi Cancer Foundation need you!  Join us and: \n\n  Connect more people to top cancer experts\, the latest research and cutting edge therapies right here in Wisconsin.\n\n  Help patients thrive with resources throughout their cancer journey.\n\n  100% of what you fundraise will stay local\, supporting your community's Aurora Cancer Care clinic.\n\nJoin us\, and give more people facing cancer in our communities hope.\n\n\n\nAll proceeds benefit local Aurora Cancer Care programs and services\, and are eligible for a match through the Vince Lombardi Cancer Foundation. \n\nFor more information or to register:  LombardiWalk.org\, email Jennifer Stephens at jennifer.stephens@aurora.org or call 262-741-2600\n\nChoose a Walk near you!\n\nJune 4\, 2016\n\n  Homestead Hollow | Germantown\n\n  Menominee Park | Oshkosh\n\nJune 11\, 2016\n\n  Veterans Memorial Park | Kenosha\n\nJune 18\, 2016\n\n  Aurora Bay Care Campus | Green Bay\n\n  Firehouse Park | Town of Sheboygan\n\n  Edgewater Park | Williams Bay\n\nJune 25\, 2016\n\n  Neshotah Beach | Two Rivers\n\n  Fowler Park | Oconomowoc\n\nJuly 23\, 2016 (Walk/Run)\n\n  Festa Italiana | Milwaukee
X-ALT-DESC;FMTTYPE=text/html:<p>In our community\,</p>\n\n<p>we tackle cancer as a team.&nbsp\; That&#39\;s why Aurora Cancer Care and the Vince Lombardi Cancer Foundation need you!&nbsp\; Join us and:&nbsp\;</p>\n\n<p>&bull\; Connect more people to top cancer experts\, the latest research and cutting edge therapies right here in Wisconsin.</p>\n\n<p>&bull\; Help patients thrive with resources throughout their cancer journey.</p>\n\n<p>&bull\; 100% of what you fundraise will stay local\, supporting your community&#39\;s Aurora Cancer Care clinic.</p>\n\n<p>Join us\, and give more people facing cancer in our communities hope.<br />\n<br />\nAll proceeds benefit local Aurora Cancer Care programs and services\, and are eligible for a match through the Vince Lombardi Cancer Foundation.&nbsp\;<br />\nFor more information or to register:&nbsp\; LombardiWalk.org\, email Jennifer Stephens at <a href="mailto:jennifer.stephens@aurora.org">jennifer.stephens@aurora.org</a> or call 262-741-2600</p>\n\n<p>Choose a Walk near you!</p>\n\n<p>June 4\, 2016</p>\n\n<p>&bull\; Homestead Hollow | <em>Germantown</em></p>\n\n<p>&bull\; Menominee Park | <em>Oshkosh</em></p>\n\n<p>June 11\, 2016</p>\n\n<p>&bull\; Veterans Memorial Park | <em>Kenosha</em></p>\n\n<p>June 18\, 2016</p>\n\n<p>&bull\; Aurora Bay Care Campus | <em>Green Bay</em></p>\n\n<p>&bull\; Firehouse Park | <em>Town of Sheboygan</em></p>\n\n<p>&bull\; Edgewater Park | <em>Williams Bay</em></p>\n\n<p>June 25\, 2016</p>\n\n<p>&bull\; Neshotah Beach | <em>Two Rivers</em></p>\n\n<p>&bull\; Fowler Park | <em>Oconomowoc</em></p>\n\n<p>July 23\, 2016 (Walk/Run)</p>\n\n<p>&bull\; Festa Italiana | <em>Milwaukee</em></p>\n
LOCATION:Fowler Park\, Oconomowoc\, WI
UID:e.522.133388
SEQUENCE:3
DTSTAMP:20260422T093943Z
URL:https://business.hartland-wi.org/events/details/lombardi-walk-to-tackle-cancer-06-25-2016-133388
END:VEVENT

END:VCALENDAR
