BEGIN:VCALENDAR
VERSION:2.0
PRODID:-//ChamberMaster//Event Calendar 2.0//EN
METHOD:PUBLISH
X-PUBLISHED-TTL:P3D
REFRESH-INTERVAL:P3D
CALSCALE:GREGORIAN
BEGIN:VEVENT
DTSTART:20180326T220000Z
DTEND:20180327T000000Z
X-MICROSOFT-CDO-ALLDAYEVENT:FALSE
SUMMARY:LIving With and Loving Those Who Struggle with Mental Health
DESCRIPTION:Living With and Loving Those Who Struggle with Mental Health\n\nSupport Your Loved One by Caring For Yourself\n\n\n\nLiving with a mental condition can be very difficult\; living with a person with a mental health condition is also very challenging.  Whether diagnosed\, in treatment or just exhibiting signs and symptoms\, family and friends often want to help their loved one but encounter challenges which make them feel incapable or overwhelmed.  Many lack information about mental health conditions and struggle to understand what their loved one experiences.  Often\, individuals feel helpless or fearful that they will say or do the "wrong" thing.  Most would benefit from education\, proper boundaries and a better understanding of how to care for themselves in order to better care for others.\n\nRegistration is required by phoning:  888-863-5502
X-ALT-DESC;FMTTYPE=text/html:<div style="text-align: center\;"><strong>Living With and Loving Those Who Struggle with Mental Health<br />\nSupport Your Loved One by Caring For Yourself<br />\n<br />\nLiving with a mental condition can be very difficult\; living with a person with a mental health condition is also very challenging.&nbsp\; Whether diagnosed\, in treatment or just exhibiting signs and symptoms\, family and friends often want to help their loved one but encounter challenges which make them feel incapable or overwhelmed.&nbsp\; Many lack information about mental health conditions and struggle to understand what their loved one experiences.&nbsp\; Often\, individuals feel helpless or fearful that they will say or do the &quot\;wrong&quot\; thing.&nbsp\; Most would benefit from education\, proper boundaries and a better understanding of how to care for themselves in order to better care for others.<br />\nRegistration is required by phoning:&nbsp\; 888-863-5502</strong><br />\n<br />\n&nbsp\;</div>\n
LOCATION:Aurora Medical Center Summit Draper Hall 36500 Aurora Drive Summit\, WI
UID:e.522.137193
SEQUENCE:3
DTSTAMP:20260423T232933Z
URL:https://business.hartland-wi.org/events/details/living-with-and-loving-those-who-struggle-with-mental-health-137193
END:VEVENT

END:VCALENDAR
