BEGIN:VCALENDAR
VERSION:2.0
PRODID:-//ChamberMaster//Event Calendar 2.0//EN
METHOD:PUBLISH
X-PUBLISHED-TTL:P3D
REFRESH-INTERVAL:P3D
CALSCALE:GREGORIAN
BEGIN:VEVENT
DTSTART:20110708T000000Z
DTEND:20110708T030000Z
X-MICROSOFT-CDO-ALLDAYEVENT:FALSE
SUMMARY:Live Music at the Seven Seas\, Featuring West of East
DESCRIPTION:Enjoy a lovely lake view\, dinner\, drinks and live music\, Thursdays at the Weissgerber's Seven Seas Restaurant. July 7th and 21st feature Milwaukee based Duo\, West of East. Music starts at 7PM.\n\n\n\nDriven by vocals that mix the subtle\, velvety style of Norah Jones with the power of Neko Case\, West of East pairs intelligently crafted lyrics with their own blend of acoustic folk and gritty\, electric guitar soaked alt-country.
X-ALT-DESC;FMTTYPE=text/html:Enjoy a lovely lake view\, dinner\, drinks and live music\, Thursdays at the Weissgerber&#39\;s Seven Seas Restaurant. July 7th and 21st feature Milwaukee based Duo\, West of East. Music starts at 7PM.<br />\n<br />\nDriven by vocals that mix the subtle\, velvety style of Norah Jones with the power of Neko Case\, West of East pairs intelligently crafted lyrics with their own blend of acoustic folk and gritty\, electric guitar soaked alt-country.
LOCATION:Seven Seas\, 1807 Nagawicka Rd Hartland\, WI 53029
UID:e.522.131728
SEQUENCE:3
DTSTAMP:20260420T105938Z
URL:https://business.hartland-wi.org/events/details/live-music-at-the-seven-seas-featuring-west-of-east-07-07-2011-131728
END:VEVENT

END:VCALENDAR
