BEGIN:VCALENDAR
VERSION:2.0
PRODID:-//ChamberMaster//Event Calendar 2.0//EN
METHOD:PUBLISH
X-PUBLISHED-TTL:P3D
REFRESH-INTERVAL:P3D
CALSCALE:GREGORIAN
BEGIN:VEVENT
DTSTART:20170615T220000Z
DTEND:20170615T233000Z
X-MICROSOFT-CDO-ALLDAYEVENT:FALSE
SUMMARY:"Let's Talk" Having a Conversation About Preparing For A Long Life
DESCRIPTION:Talking to a loved one about issues like aging\, money\, health\, and end-of-life care can be awkward.  Please join us for an informational session to learn the benefits of planning early and how to talk about these difficult issues with your loved one.  Plan early to ensure your loved one's wishes are honored.\n\n\n\nRSVP by Tuesday\, June 13th to Wendy at 262-367-2975\n\n\n\nPresented by: Cindy Bong of Global Financial Group
X-ALT-DESC;FMTTYPE=text/html:<p style="font-style: italic\;"><em><span style="font-family:arial\,helvetica\,sans-serif">Talking to a loved one about issues like aging\, money\, health\, and end-of-life care can be awkward. &nbsp\;Please join us for an informational session to learn the benefits of planning early and how to talk about these difficult issues with your loved one. &nbsp\;Plan early to ensure your loved one&#39\;s wishes are honored.<br />\n<br />\n<strong>RSVP by Tuesday\, June 13th to Wendy at 262-367-2975<br />\n<br />\nPresented by: Cindy Bong of Global Financial Group</strong></span></em><br />\n<br />\n&nbsp\;</p>\n
LOCATION:Heritage Lake Country Independent\, Assisted Living and Memory Care Communities 2975 Village Square Drive Hartland\, WI 53029
UID:e.522.136674
SEQUENCE:3
DTSTAMP:20260423T063827Z
URL:https://business.hartland-wi.org/events/details/let-s-talk-having-a-conversation-about-preparing-for-a-long-life-136674
END:VEVENT

END:VCALENDAR
