BEGIN:VCALENDAR
VERSION:2.0
PRODID:-//ChamberMaster//Event Calendar 2.0//EN
METHOD:PUBLISH
X-PUBLISHED-TTL:P3D
REFRESH-INTERVAL:P3D
CALSCALE:GREGORIAN
BEGIN:VEVENT
DTSTART:20110507T133000Z
DTEND:20110507T143000Z
X-MICROSOFT-CDO-ALLDAYEVENT:FALSE
SUMMARY:Lego Club: Focus on Teamwork
DESCRIPTION:Kids ages 7 to 12 are invited to join LCMA's Lego Club.  This session our focus in on Teamwork!
X-ALT-DESC;FMTTYPE=text/html:<p>\n	Kids ages 7 to 12 are invited to join LCMA&#39\;s Lego Club.&nbsp\; This session our focus in on Teamwork!</p>\n
LOCATION:Lake Country Martial Arts Family Resource Room 350 Cottonwood Ave\, Hartland
UID:e.522.131714
SEQUENCE:3
DTSTAMP:20260422T165120Z
URL:https://business.hartland-wi.org/events/details/lego-club-focus-on-teamwork-05-07-2011-131714
END:VEVENT

END:VCALENDAR
