BEGIN:VCALENDAR
VERSION:2.0
PRODID:-//ChamberMaster//Event Calendar 2.0//EN
METHOD:PUBLISH
X-PUBLISHED-TTL:P3D
REFRESH-INTERVAL:P3D
CALSCALE:GREGORIAN
BEGIN:VEVENT
DTSTART:20110505T221500Z
DTEND:20110505T231500Z
X-MICROSOFT-CDO-ALLDAYEVENT:FALSE
SUMMARY:Lego Club: Focus on Teamwork
DESCRIPTION:Kids ages 7 - 12 are invited to join Lake Country Martial Arts Lego Club.  This session our focus in on Teamwork!!
X-ALT-DESC;FMTTYPE=text/html:Kids ages 7 - 12 are invited to join Lake Country Martial Arts Lego Club.  This session our focus in on Teamwork!!  
LOCATION:Lake Country Martial Arts Family Resource Room 350 Cottonwood Ave
UID:e.522.131713
SEQUENCE:3
DTSTAMP:20260422T165249Z
URL:https://business.hartland-wi.org/events/details/lego-club-focus-on-teamwork-05-05-2011-131713
END:VEVENT

END:VCALENDAR
