BEGIN:VCALENDAR
VERSION:2.0
PRODID:-//ChamberMaster//Event Calendar 2.0//EN
METHOD:PUBLISH
X-PUBLISHED-TTL:P3D
REFRESH-INTERVAL:P3D
CALSCALE:GREGORIAN
BEGIN:VEVENT
DTSTART:20140326T230000Z
DTEND:20140327T014500Z
X-MICROSOFT-CDO-ALLDAYEVENT:FALSE
SUMMARY:Learning Never Ends
DESCRIPTION:Learning Never Ends\n\nAn Evening of Free Mini Classes for Adults\n\n\n\nWhat do Native Plants\, Homemade Pasta\, CSI\, and the Restoration of Paris have in common?\n\n\n\nThese are all topics to be presented\, mini-course style\, on Wednesday\, March 26th at Arrowhead High School - North Campus.\n\n\n\nRegister using the Web or Phone:\n\narrowheadschools.org\n\n262-369-3612  X3704 Mr. Joseph Paul
X-ALT-DESC;FMTTYPE=text/html:Learning Never Ends<br />\nAn Evening of Free Mini Classes for Adults<br />\n<br />\nWhat do Native Plants\, Homemade Pasta\, CSI\, and the Restoration of Paris have in common?<br />\n<br />\nThese are all topics to be presented\, mini-course style\, on Wednesday\, March 26th at Arrowhead High School - North Campus.<br />\n<br />\nRegister using the Web or Phone:<br />\narrowheadschools.org<br />\n262-369-3612&nbsp\; X3704 Mr. Joseph Paul
LOCATION:Arrowhead High School - North Campus 700 North Avenue Hartland\, WI 53029
UID:e.522.132817
SEQUENCE:3
DTSTAMP:20260420T161156Z
URL:https://business.hartland-wi.org/events/details/learning-never-ends-03-26-2014-132817
END:VEVENT

END:VCALENDAR
