BEGIN:VCALENDAR
VERSION:2.0
PRODID:-//ChamberMaster//Event Calendar 2.0//EN
METHOD:PUBLISH
X-PUBLISHED-TTL:P3D
REFRESH-INTERVAL:P3D
CALSCALE:GREGORIAN
BEGIN:VEVENT
DTSTART:20180402T220000Z
DTEND:20180402T224500Z
X-MICROSOFT-CDO-ALLDAYEVENT:FALSE
SUMMARY:Learn to Play Hockey Lessons
DESCRIPTION:This 7 week Learn to Play Hockey Session is for beginners age 5-10 years old who have completed the Learn to Skate Program. Spring 2018 Session runs March 19th thru April 30th. practice session is 5:00 pm-5:45pm. Full hockey equipment is required for this class. Kids will develop basic hockey skills: skating\, stick handling\, passing\, shooting and team work. This class is designed to be taken multiple times.
X-ALT-DESC;FMTTYPE=text/html:<span style="background-color:rgb(255\, 255\, 255)\; font-family:arial\; font-size:12px"><strong>This 7 week Learn to Play Hockey Session is for beginners age 5-10 years old who have completed the Learn to Skate Program. Spring 2018 Session runs March 19th thru April 30th. practice session is 5:00 pm-5:45pm. Full hockey equipment is required for this class. Kids will develop basic hockey skills: skating\, stick handling\, passing\, shooting and team work. This class is designed to be taken multiple times.</strong></span>
LOCATION:Mullett Ice Center Located on the Arrowhead High School Campus 700 North Ave Hartland\, WI 53029
UID:e.522.137226
SEQUENCE:3
DTSTAMP:20260423T232616Z
URL:https://business.hartland-wi.org/events/details/learn-to-play-hockey-lessons-04-02-2018-137226
END:VEVENT

END:VCALENDAR
