BEGIN:VCALENDAR
VERSION:2.0
PRODID:-//ChamberMaster//Event Calendar 2.0//EN
METHOD:PUBLISH
X-PUBLISHED-TTL:P3D
REFRESH-INTERVAL:P3D
CALSCALE:GREGORIAN
BEGIN:VEVENT
DTSTART;VALUE=DATE:20180402
DTEND;VALUE=DATE:20180403
TRANSP:TRANSPARENT
X-MICROSOFT-CDO-ALLDAYEVENT:TRUE
SUMMARY:Learn to Figure Skate Lessons
DESCRIPTION:Students will acquire beginning figure skating skills\, including introductory jumps and spins. Attention to proper position\, edge balance\, and controlled footwork will be central to instruction. Classes conducted in a whole group format and with individual guided practice will provide a foundation for skaters to continue into US Figure Skating disciplines of their choice.
X-ALT-DESC;FMTTYPE=text/html:<div>Students will acquire beginning figure skating skills\, including introductory jumps and spins. Attention to proper position\, edge balance\, and controlled footwork will be central to instruction. Classes conducted in a whole group format and with individual guided practice will provide a foundation for skaters to continue into US Figure Skating disciplines of their choice.</div>\n
LOCATION:The Mullett Ice Center Located on the Arrowhead High School Campus 700 North Ave Milwaukee\, WI 53029
UID:e.522.137219
SEQUENCE:3
DTSTAMP:20260423T232535Z
URL:https://business.hartland-wi.org/events/details/learn-to-figure-skate-lessons-04-02-2018-137219
END:VEVENT

END:VCALENDAR
