BEGIN:VCALENDAR
VERSION:2.0
PRODID:-//ChamberMaster//Event Calendar 2.0//EN
METHOD:PUBLISH
X-PUBLISHED-TTL:P3D
REFRESH-INTERVAL:P3D
CALSCALE:GREGORIAN
BEGIN:VEVENT
DTSTART:20120825T140000Z
DTEND:20120825T170000Z
X-MICROSOFT-CDO-ALLDAYEVENT:FALSE
SUMMARY:Learn about Rain Gardens\, Native Plants\, Composting and Recycling at Retzer!
DESCRIPTION:Waukesha\, WI - Retzer Nature Center\, located at S14W28167 Madison Street\, will be buzzing with educational activities on Saturday\, August 25th beginning at 9a.m.! Events of the day include a Native Plant & Home Compost Bin Sale (9a.m.-noon)\, Rain Garden & Rain Barrel Class (10-11a.m.)\, and a Recycling Outreach Booth (11a.m.-1p.m.). There is no fee required for entrance into Retzer Nature Center and all are welcome to attend.\n\nVisit www.waukeshacounty.gov/recycling to learn more.
X-ALT-DESC;FMTTYPE=text/html:Waukesha\, WI - Retzer Nature Center\, located at S14W28167 Madison Street\, will be buzzing with educational activities on Saturday\, August 25th beginning at 9a.m.! Events of the day include a Native Plant &amp\; Home Compost Bin Sale (9a.m.-noon)\, Rain Garden &amp\; Rain Barrel Class (10-11a.m.)\, and a Recycling Outreach Booth (11a.m.-1p.m.). There is no fee required for entrance into Retzer Nature Center and all are welcome to attend.<br />\nVisit <a href="http://www.waukeshacounty.gov/recycling">www.waukeshacounty.gov/recycling</a> to learn more.
LOCATION:Retzer Nature Center
UID:e.522.132010
SEQUENCE:3
DTSTAMP:20260421T112225Z
URL:https://business.hartland-wi.org/events/details/learn-about-rain-gardens-native-plants-composting-and-recycling-at-retzer-08-25-2012-132010
END:VEVENT

END:VCALENDAR
