BEGIN:VCALENDAR
VERSION:2.0
PRODID:-//ChamberMaster//Event Calendar 2.0//EN
METHOD:PUBLISH
X-PUBLISHED-TTL:P3D
REFRESH-INTERVAL:P3D
CALSCALE:GREGORIAN
BEGIN:VEVENT
DTSTART:20170708T140000Z
DTEND:20170708T180000Z
X-MICROSOFT-CDO-ALLDAYEVENT:FALSE
SUMMARY:LCRAC Community Free Day
DESCRIPTION:Join Lake Country Racquet and Athletic Club for our Community Free Day Saturday\, July 8th 2017 9:00 am - 1:00 pm. Experience the Lake Country difference while enjoying refreshments\, door prizes\, demos and much more.
X-ALT-DESC;FMTTYPE=text/html:<span style="font-family:times new roman\,serif"><span style="font-size:12.0pt">Join Lake Country Racquet and Athletic Club for our Community Free Day Saturday\, July 8th 2017 9:00 am - 1:00 pm. Experience the Lake Country difference while enjoying refreshments\, door prizes\, demos and much more.</span></span>
LOCATION:560 S. Industrial Dr. | Hartland\, WI 53029
UID:e.522.136675
SEQUENCE:3
DTSTAMP:20260423T081420Z
URL:https://business.hartland-wi.org/events/details/lcrac-community-free-day-136675
END:VEVENT

END:VCALENDAR
