BEGIN:VCALENDAR
VERSION:2.0
PRODID:-//ChamberMaster//Event Calendar 2.0//EN
METHOD:PUBLISH
X-PUBLISHED-TTL:P3D
REFRESH-INTERVAL:P3D
CALSCALE:GREGORIAN
BEGIN:VEVENT
DTSTART:20130129T140000Z
DTEND:20130129T150000Z
X-MICROSOFT-CDO-ALLDAYEVENT:FALSE
SUMMARY:LCCF Committee Meeting
DESCRIPTION:
X-ALT-DESC;FMTTYPE=text/html:
LOCATION:Arrowhead High School South Campus Administrative Bldg.
UID:e.522.132325
SEQUENCE:3
DTSTAMP:20260421T041606Z
URL:https://business.hartland-wi.org/events/details/lccf-committee-meeting-01-29-2013-132325
END:VEVENT

END:VCALENDAR
