BEGIN:VCALENDAR
VERSION:2.0
PRODID:-//ChamberMaster//Event Calendar 2.0//EN
METHOD:PUBLISH
X-PUBLISHED-TTL:P3D
REFRESH-INTERVAL:P3D
CALSCALE:GREGORIAN
BEGIN:VEVENT
DTSTART:20140220T233000Z
DTEND:20140221T010000Z
X-MICROSOFT-CDO-ALLDAYEVENT:FALSE
SUMMARY:LAUNCH (Lake Country's Young Professionals Group)
DESCRIPTION:"LAUNCH"\n\n	Lake Country's Young Professionals Group\n\n	Kickoff Social Event!\n\n	\n\n	 \n\n	The group invites people 21 - 35 years old who live or work in the Lake Country Area\n\n	to grow personally and professionally through\n\n	Networking\, Educational\, Community and Social Events.\n\n	\n\n	"Like" us on our Facebook page:\n\n	https://www.facebook.com/lakecountrylaunch
X-ALT-DESC;FMTTYPE=text/html:<div style="text-align: center\;">\n	<br />\n	<br />\n	<span style="color: rgb(0\, 0\, 128)\;"><strong>&quot\;LAUNCH&quot\;</strong></span></div>\n<div style="text-align: center\;">\n	<span style="color: rgb(0\, 0\, 128)\;"><strong>Lake Country&#39\;s Young Professionals Group<br />\n	Kickoff Social Event!</strong></span><br />\n	<br />\n	&nbsp\;</div>\n<div style="text-align: center\;">\n	<span style="color: rgb(0\, 0\, 128)\;">The group invites people 21 - 35 years old who live or work in the Lake Country Area<br />\n	to grow personally and professionally through<br />\n	Networking\, Educational\, Community and Social Events.<br />\n	<br />\n	&quot\;Like&quot\; us on&nbsp\;our Facebook page:<br />\n	https://www.facebook.com/lakecountrylaunch</span><br />\n	<br />\n	<br />\n	<br />\n	<br />\n	<br />\n	<br type="_moz" />\n	&nbsp\;</div>\n
LOCATION:Endter' Sports Bar & Grill 300 Cottonwood Avenue Hartland\, WI 53029
UID:e.522.132816
SEQUENCE:3
DTSTAMP:20260420T195002Z
URL:https://business.hartland-wi.org/events/details/launch-lake-country-s-young-professionals-group-02-20-2014-132816
END:VEVENT

END:VCALENDAR
