BEGIN:VCALENDAR
VERSION:2.0
PRODID:-//ChamberMaster//Event Calendar 2.0//EN
METHOD:PUBLISH
X-PUBLISHED-TTL:P3D
REFRESH-INTERVAL:P3D
CALSCALE:GREGORIAN
BEGIN:VEVENT
DTSTART:20130928T000000Z
DTEND:20130928T043000Z
X-MICROSOFT-CDO-ALLDAYEVENT:FALSE
SUMMARY:Laughs at the Legion
DESCRIPTION:Featuring Stand Up Comedian Lee L. A Lycan.\n\n	One of Wisconsins most popular comedians.\n\n	His act is creative\, well written. improvisational\n\n	and includes audience participation.\n\n	A clean but hilarious show.\n\n	Raffes\, Games\, Door Prizes\n\n	An Evening of Fun!!
X-ALT-DESC;FMTTYPE=text/html:<div style="text-align: center\;">\n	<span style="font-size: 20px\;"><span style="font-family: comic sans ms\;"><span style="color: rgb(255\, 0\, 0)\;"><span style="font-size: 24px\;">Featuring Stand Up Comedian Lee L. A Lycan.</span></span></span></span><br />\n	One of Wisconsins most popular comedians.</div>\n<div style="text-align: center\;">\n	His act is creative\, well written. improvisational</div>\n<div style="text-align: center\;">\n	and includes audience participation.<br />\n	A clean but hilarious show.<br />\n	<span style="font-size: 18px\;"><span style="font-family: comic sans ms\;"><span style="color: rgb(64\, 224\, 208)\;">Raffes\, Games\, Door Prizes<br />\n	An Evening of Fun!!</span></span></span></div>\n<br />\n
LOCATION:American Legion Post 294 231 Goodwin Ave Hartland
UID:e.522.132761
SEQUENCE:3
DTSTAMP:20260420T123514Z
URL:https://business.hartland-wi.org/events/details/laughs-at-the-legion-09-27-2013-132761
END:VEVENT

END:VCALENDAR
