BEGIN:VCALENDAR
VERSION:2.0
PRODID:-//ChamberMaster//Event Calendar 2.0//EN
METHOD:PUBLISH
X-PUBLISHED-TTL:P3D
REFRESH-INTERVAL:P3D
CALSCALE:GREGORIAN
BEGIN:VEVENT
DTSTART:20140503T130000Z
DTEND:20140503T170000Z
X-MICROSOFT-CDO-ALLDAYEVENT:FALSE
SUMMARY:Lakeside Fitness - Fit Body Boot Camp at the Waukesha Farmers Market
DESCRIPTION:Lakeside Fitness Fit Body Boot Camp will be supporting The ProHealth Care River Walk for Breast Cancer on May 3rd at the Waukesha Farmers Market opening.
X-ALT-DESC;FMTTYPE=text/html:<em><strong>Lakeside Fitness Fit Body Boot Camp </strong></em>will be supporting The ProHealth Care River Walk for Breast Cancer on May 3rd at the Waukesha Farmers Market opening.
LOCATION:The Waukesha Farmers? Market is held in Historic Downtown Waukesha and takes place along the south side of the Fox River in Riverfront Plaza ? the former site of the Transit Center. Riverfront Plaza is located between W. Broadway Street and N. Barstow Street along the banks of the Fox River.
UID:e.522.132833
SEQUENCE:3
DTSTAMP:20260420T124408Z
URL:https://business.hartland-wi.org/events/details/lakeside-fitness-fit-body-boot-camp-at-the-waukesha-farmers-market-05-03-2014-132833
END:VEVENT

END:VCALENDAR
