BEGIN:VCALENDAR
VERSION:2.0
PRODID:-//ChamberMaster//Event Calendar 2.0//EN
METHOD:PUBLISH
X-PUBLISHED-TTL:P3D
REFRESH-INTERVAL:P3D
CALSCALE:GREGORIAN
BEGIN:VEVENT
DTSTART:20140329T150000Z
DTEND:20140329T200000Z
X-MICROSOFT-CDO-ALLDAYEVENT:FALSE
SUMMARY:Lakeside Fitness - Fit Body Boot Camp at Lake Country Community Fest
DESCRIPTION:Lakeside Fitness - Fit Body Boot Camp\n\nVisit our booth at Lake Country Community Fest!
X-ALT-DESC;FMTTYPE=text/html:Lakeside Fitness - Fit Body Boot Camp<br />\nVisit our booth at Lake Country Community Fest!<br type="_moz" />\n
LOCATION:Kettle Moraine High School
UID:e.522.132818
SEQUENCE:3
DTSTAMP:20260420T163440Z
URL:https://business.hartland-wi.org/events/details/lakeside-fitness-fit-body-boot-camp-at-lake-country-community-fest-03-29-2014-132818
END:VEVENT

END:VCALENDAR
