BEGIN:VCALENDAR
VERSION:2.0
PRODID:-//ChamberMaster//Event Calendar 2.0//EN
METHOD:PUBLISH
X-PUBLISHED-TTL:P3D
REFRESH-INTERVAL:P3D
CALSCALE:GREGORIAN
BEGIN:VEVENT
DTSTART:20141021T233000Z
DTEND:20141022T023000Z
X-MICROSOFT-CDO-ALLDAYEVENT:FALSE
SUMMARY:Lake Country Women's Club October Monthly Meeting
DESCRIPTION:Please join us for The Lake Country Women's Club monthly meeting on October 21\, 2014 at 6:30pm at Revere's Well Street Tavern\, Delafield. \n\n\n\nWomen ages 19 and older are invited to join the LCWC.  Please see our website for more information\, www.lakecountrywomensclub.org.
X-ALT-DESC;FMTTYPE=text/html:Please join us for The Lake Country Women&#39\;s Club monthly meeting on&nbsp\;October 21\,&nbsp\;2014&nbsp\;at&nbsp\;6:30pm at Revere&#39\;s Well Street Tavern\, Delafield.&nbsp\;<br />\n<br />\nWomen ages&nbsp\;19 and older are invited to join the LCWC.&nbsp\; Please see our website for more information\, <a href="http://www.lakecountrywomensclub.org">www.lakecountrywomensclub.org</a>.
LOCATION:Revere's Well Street Tavern
UID:e.522.132781
SEQUENCE:3
DTSTAMP:20260420T232431Z
URL:https://business.hartland-wi.org/events/details/lake-country-women-s-club-october-monthly-meeting-10-21-2014-132781
END:VEVENT

END:VCALENDAR
