BEGIN:VCALENDAR
VERSION:2.0
PRODID:-//ChamberMaster//Event Calendar 2.0//EN
METHOD:PUBLISH
X-PUBLISHED-TTL:P3D
REFRESH-INTERVAL:P3D
CALSCALE:GREGORIAN
BEGIN:VEVENT
DTSTART:20121017T000000Z
DTEND:20121017T023000Z
X-MICROSOFT-CDO-ALLDAYEVENT:FALSE
SUMMARY:Lake Country Women's Club October Monthly Meeting
DESCRIPTION:Please join us for The Lake Country Women's Club October monthly meeting on October 16\, 2012\, 7:00pm at Revere's Well Street Tavern\, Delafield. \n\n\n\nOur buisness meeting will be followed by our speaker\, Ally Diedrick from By Ally llc - Decorator's Warehouse in Hartland.  Ally will be sharing creative and inexpensive ways to recreate an existing item in our home. She has many unique pieces in her store and is\n\nalso available for in home consulting.\n\n\n\nOctober Helping Hands:  LAKE COUNTRY CARING\n\nWe will be collecting new or gently used:\n\nWinter coats (all sizes)\n\nWinter shoes & snow boots (all sizes)\n\nMen's underwear & T-shirts\n\nKing & Queen size bedding\n\nSilverware\n\nDish Sets\n\nTowels & washcloths\n\nKitchenware\n\nPlease bring these items to our October meeting and we will get them to Lake Country Caring!\n\n\n\nWomen ages 19 and older are invited to join the LCWC.  Please see our website for more information\, www.lakecountrywomensclub.org.
X-ALT-DESC;FMTTYPE=text/html:Please join us for The Lake Country Women&#39\;s Club October monthly meeting on October 16\, 2012\, 7:00pm at Revere&#39\;s Well Street Tavern\, Delafield.&nbsp\;<br />\n<br />\nOur buisness meeting will be followed by our speaker\, Ally Diedrick from By Ally llc - Decorator&#39\;s Warehouse in Hartland.&nbsp\; Ally&nbsp\;will be sharing&nbsp\;creative and inexpensive ways to recreate an existing item in our home. She has many unique pieces in her store and is<br />\nalso available for in home consulting.<br />\n<br />\nOctober Helping Hands:&nbsp\; LAKE COUNTRY CARING<br />\nWe will be collecting new or gently used:<br />\nWinter coats (all sizes)<br />\nWinter shoes &amp\; snow boots (all sizes)<br />\nMen&rsquo\;s underwear &amp\; T-shirts<br />\nKing &amp\; Queen size bedding<br />\nSilverware<br />\nDish Sets<br />\nTowels &amp\; washcloths<br />\nKitchenware<br />\nPlease bring these items to our October meeting and we will get them to Lake Country Caring!<br />\n<br />\nWomen ages&nbsp\;19 and older are invited to join the LCWC.&nbsp\; Please see our website for more information\, <a href="http://www.lakecountrywomensclub.org">www.lakecountrywomensclub.org</a>.
LOCATION:Revere's Well Street Tavern
UID:e.522.132028
SEQUENCE:3
DTSTAMP:20260421T080329Z
URL:https://business.hartland-wi.org/events/details/lake-country-women-s-club-october-monthly-meeting-10-16-2012-132028
END:VEVENT

END:VCALENDAR
