BEGIN:VCALENDAR
VERSION:2.0
PRODID:-//ChamberMaster//Event Calendar 2.0//EN
METHOD:PUBLISH
X-PUBLISHED-TTL:P3D
REFRESH-INTERVAL:P3D
CALSCALE:GREGORIAN
BEGIN:VEVENT
DTSTART:20141107T003000Z
DTEND:20141107T030000Z
X-MICROSOFT-CDO-ALLDAYEVENT:FALSE
SUMMARY:Lake Country Women's Club - Ladies Fall Fashion Show
DESCRIPTION:The Lake Country Women's Club \n\nLadies Fall Fashion Show\n\nAt The Delafield Brewhaus\, 3832 Hillside Dr.\, Delafield\, WI  53018\n\n \n\nThursday\, November 6\, 2014\n\n \n\n6:30-7:30 p.m. Silent Auction\, Raffle & Cash Bar\n\n7:30-8:15 p.m. Fashion Show and Dinner\n\n8:30 p.m. Silent Auction Closes\n\n \n\n$35 per person by October 31st ($40 after October 31st)\n\n \n\nJoin us for a night of fun and fashion!  Designs from CAbi\, Christy's Mainstream Boutique\, The Barn Owl\, Element Style\, Aeva Party &Wedding\, \n\nLieblang Leather and ClearWater Outdoor in Delafield will be featured.  \n\n\n\n \n\nTicket price includes a delicious sit down dinner.  All funds benefit the \n\ncharities and scholarships of the Lake Country Women's Club.\n\n \n\nGo to:  lakecountrywomensclub.org  for registration.
X-ALT-DESC;FMTTYPE=text/html:<p align="center" style="margin: 0in 0in 0pt\; text-align: center\;"><b style="mso-bidi-font-weight: normal\;"><span style="color: rgb(165\, 0\, 33)\; font-family: &quot\;Arial Narrow&quot\;\,&quot\;sans-serif&quot\;\; text-decoration: none\; mso-bidi-font-size: 12.0pt\; text-underline: none\;"><font size="3">The Lake Country Women&rsquo\;s Club </font></span></b></p>\n\n<p align="center" style="margin: 0in 0in 0pt\; text-align: center\;"><b style="mso-bidi-font-weight: normal\;"><span style="color: rgb(165\, 0\, 33)\; font-family: &quot\;Arial Narrow&quot\;\,&quot\;sans-serif&quot\;\; text-decoration: none\; mso-bidi-font-size: 12.0pt\; text-underline: none\;"><font size="3">Ladies Fall Fashion Show</font></span></b></p>\n\n<p align="center" style="margin: 0in 0in 0pt\; text-align: center\;"><b style="mso-bidi-font-weight: normal\;"><font face="Calibri"><font size="3"><font color="#000000">At The Delafield Brewhaus\, 3832 Hillside Dr.\, Delafield\, WI<span style="mso-spacerun: yes\;">&nbsp\; </span></font></font><font color="#000000" size="3">53018</font></font></b></p>\n\n<p align="center" style="margin: 0in 0in 0pt\; text-align: center\;"><b style="mso-bidi-font-weight: normal\;"><span style="color: rgb(204\, 204\, 0)\; text-decoration: none\; mso-bidi-font-size: 12.0pt\; text-underline: none\;"><font face="Calibri" size="3">&nbsp\;</font></span></b></p>\n\n<p align="center" style="margin: 0in 0in 0pt\; text-align: center\;"><b style="mso-bidi-font-weight: normal\;"><span style="color: rgb(153\, 102\, 51)\; font-family: &quot\;Footlight MT Light&quot\;\,&quot\;serif&quot\;\; text-decoration: none\; mso-bidi-font-size: 12.0pt\; text-underline: none\;"><font size="3">Thursday\, November 6\, 2014</font></span></b></p>\n\n<p align="center" style="margin: 0in 0in 0pt\; text-align: center\;"><b style="mso-bidi-font-weight: normal\;"><span style="color: rgb(153\, 102\, 51)\; font-family: &quot\;Footlight MT Light&quot\;\,&quot\;serif&quot\;\; text-decoration: none\; mso-bidi-font-size: 12.0pt\; text-underline: none\;"><font size="3">&nbsp\;</font></span></b></p>\n\n<p align="center" style="margin: 0in 0in 0pt\; text-align: center\;"><b style="mso-bidi-font-weight: normal\;"><font color="#000000" face="Calibri" size="3">6:30-7:30 p.m. Silent Auction\, Raffle &amp\; Cash Bar</font></b></p>\n\n<p align="center" style="margin: 0in 0in 0pt\; text-align: center\;"><b style="mso-bidi-font-weight: normal\;"><font color="#000000" face="Calibri" size="3">7:30-8:15 p.m. Fashion Show and Dinner</font></b></p>\n\n<p align="center" style="margin: 0in 0in 0pt\; text-align: center\;"><b style="mso-bidi-font-weight: normal\;"><font color="#000000" face="Calibri" size="3">8:30 p.m. Silent Auction Closes</font></b></p>\n\n<p align="center" style="margin: 0in 0in 0pt\; text-align: center\;"><b style="mso-bidi-font-weight: normal\;"><font color="#000000" face="Calibri" size="3">&nbsp\;</font></b></p>\n\n<p align="center" style="margin: 0in 0in 0pt\; text-align: center\;"><b style="mso-bidi-font-weight: normal\;"><span style="color: rgb(165\, 0\, 33)\; font-family: &quot\;Footlight MT Light&quot\;\,&quot\;serif&quot\;\; text-decoration: none\; mso-bidi-font-size: 12.0pt\; text-underline: none\; mso-bidi-font-family: Calibri\; mso-bidi-theme-font: minor-latin\;"><font size="3">$35 per person by October 31</font><sup><font size="2">st</font></sup><font size="3"> ($40 after October 31st)</font></span></b></p>\n\n<p align="center" style="margin: 0in 0in 0pt\; text-align: center\;"><b style="mso-bidi-font-weight: normal\;"><span style="color: rgb(165\, 0\, 33)\; font-family: &quot\;Footlight MT Light&quot\;\,&quot\;serif&quot\;\; text-decoration: none\; mso-bidi-font-size: 12.0pt\; text-underline: none\; mso-bidi-font-family: Calibri\; mso-bidi-theme-font: minor-latin\;"><font size="3">&nbsp\;</font></span></b></p>\n\n<p align="center" style="margin: 0in 0in 0pt\; text-align: center\;"><b style="mso-bidi-font-weight: normal\;"><font face="Calibri"><font size="3"><font color="#000000">Join us for a night of fun and fashion!<span style="mso-spacerun: yes\;">&nbsp\; </span></font></font><font color="#000000" size="3">Designs from CAbi\, Christy&rsquo\;s Mainstream Boutique\, The Barn Owl\, Element Style\, Aeva Party &amp\;Wedding\, </font></font></b></p>\n\n<p align="center" style="margin: 0in 0in 0pt\; text-align: center\;"><b style="mso-bidi-font-weight: normal\;"><font size="3"><font color="#000000"><font face="Calibri">Lieblang Leather and ClearWater Outdoor in Delafield will be featured.<span style="mso-spacerun: yes\;">&nbsp\; </span></font></font></font></b><br />\n<br type="_moz" />\n&nbsp\;</p>\n\n<p align="center" style="margin: 0in 0in 0pt\; text-align: center\;"><b style="mso-bidi-font-weight: normal\;"><font face="Calibri"><font size="3"><font color="#000000">Ticket price includes a delicious sit down dinner.<span style="mso-spacerun: yes\;">&nbsp\; </span></font></font><font color="#000000" size="3">All funds benefit the </font></font></b></p>\n\n<p align="center" style="margin: 0in 0in 0pt\; text-align: center\;"><b style="mso-bidi-font-weight: normal\;"><font color="#000000" face="Calibri" size="3">charities and scholarships of the Lake Country Women&rsquo\;s Club.</font></b></p>\n\n<p align="center" style="margin: 0in 0in 0pt\; text-align: center\;"><b style="mso-bidi-font-weight: normal\;"><font color="#000000" face="Calibri" size="3">&nbsp\;</font></b></p>\n\n<p align="center" style="margin: 0in 0in 0pt\; text-align: center\;"><b style="mso-bidi-font-weight: normal\;"><font face="Calibri"><font size="3"><font color="#000000">Go to:<span style="mso-spacerun: yes\;">&nbsp\; </span></font><span style="color: maroon\;">lakecountrywomensclub.org </span></font><font color="#000000" size="3"> for registration.</font><span style="color: rgb(153\, 0\, 51)\;"><font size="3"> </font></span></font></b></p>\n\n<p align="center" style="margin: 0in 0in 0pt\; text-align: center\;"><font color="#000000" face="Calibri" size="3">&nbsp\;</font></p>\n
LOCATION:Delafield Brewhaus\, 3832 Hillside Dr.\, Delafield\, WI 53018
UID:e.522.133082
SEQUENCE:3
DTSTAMP:20260421T004845Z
URL:https://business.hartland-wi.org/events/details/lake-country-women-s-club-ladies-fall-fashion-show-11-06-2014-133082
END:VEVENT

END:VCALENDAR
