BEGIN:VCALENDAR
VERSION:2.0
PRODID:-//ChamberMaster//Event Calendar 2.0//EN
METHOD:PUBLISH
X-PUBLISHED-TTL:P3D
REFRESH-INTERVAL:P3D
CALSCALE:GREGORIAN
BEGIN:VEVENT
DTSTART:20110921T000000Z
DTEND:20110921T020000Z
X-MICROSOFT-CDO-ALLDAYEVENT:FALSE
SUMMARY:Lake Country Women's Club Fall Membership Meeting
DESCRIPTION:The Lake Country Women's Club invites women ages 19 and older to our fall membership meeting.  The Lake Country Women's Club was established in 1976 as a non-profit service organization dedicated to supporting the special needs of our community.  LCWC benefits the Lake Country area through service\, charity\, and cultural opportunities.  Meetings are held on the third Tuesday monthly from September through May.  Please join us at our fall kick-off meeting!
X-ALT-DESC;FMTTYPE=text/html:<p>\n	The Lake Country Women&#39\;s Club invites women ages 19 and older to our fall membership meeting.&nbsp\; The Lake Country Women&#39\;s Club was established in 1976 as a non-profit service organization dedicated to supporting the special needs of our community.&nbsp\; LCWC benefits the Lake Country area through service\, charity\, and cultural opportunities.&nbsp\; Meetings are held on the third Tuesday monthly from September through May.&nbsp\; Please join us at our fall kick-off meeting!</p>\n
LOCATION:Revere's Well Street Tavern
UID:e.522.131766
SEQUENCE:3
DTSTAMP:20260422T094430Z
URL:https://business.hartland-wi.org/events/details/lake-country-women-s-club-fall-membership-meeting-09-20-2011-131766
END:VEVENT

END:VCALENDAR
