BEGIN:VCALENDAR
VERSION:2.0
PRODID:-//ChamberMaster//Event Calendar 2.0//EN
METHOD:PUBLISH
X-PUBLISHED-TTL:P3D
REFRESH-INTERVAL:P3D
CALSCALE:GREGORIAN
BEGIN:VEVENT
DTSTART:20120919T000000Z
DTEND:20120919T020000Z
X-MICROSOFT-CDO-ALLDAYEVENT:FALSE
SUMMARY:Lake Country Women's Club Fall KickOff Membership Meeting
DESCRIPTION:The Lake Country Women's Club (LCWC) invites you to join us at our fall membership kickoff meeting.  The Lake Country Women's Club is a non-profit service organization dedicated to supporting the special needs of our community.  The goal of the LCWC is to benefit the Lake Country area through service\, charity\, and cultural opportunities.\n\n\n\nThe LCWC welcomes new members.  Membership is open for women ages 19 and older.  Meetings are held on the third Tuesday monthly from September through May.  Our signature event\, The Lake Country Art Festival\, is held annually in July.\n\n\n\nPlease bring a friend or neighbor and join us on September 18\, 2012 at 7pm for our fall membership meeting.
X-ALT-DESC;FMTTYPE=text/html:The Lake Country Women&#39\;s Club (LCWC) invites you to join us at our fall membership kickoff meeting.&nbsp\; The Lake Country Women&#39\;s Club is a non-profit service organization dedicated to supporting the special needs of our community.&nbsp\; The goal of the LCWC is to benefit the Lake Country area through service\, charity\, and cultural opportunities.<br />\n<br />\nThe LCWC welcomes new members.&nbsp\; Membership is open for women ages 19 and older.&nbsp\; Meetings are held on the third Tuesday monthly from September through May.&nbsp\; Our signature event\, The Lake Country Art Festival\, is held annually in July.<br />\n<br />\nPlease bring a friend or neighbor and join us on September 18\, 2012 at 7pm for our fall membership meeting.&nbsp\;
LOCATION:Revere's Wells Street Tavern\,505 Wells Street\, Delafield\, WI 53018
UID:e.522.132024
SEQUENCE:3
DTSTAMP:20260421T094255Z
URL:https://business.hartland-wi.org/events/details/lake-country-women-s-club-fall-kickoff-membership-meeting-09-18-2012-132024
END:VEVENT

END:VCALENDAR
